BEGIN:VCALENDAR
VERSION:2.0
PRODID:-//Cape Baptist Church - ECPv6.15.11//NONSGML v1.0//EN
CALSCALE:GREGORIAN
METHOD:PUBLISH
X-WR-CALNAME:Cape Baptist Church
X-ORIGINAL-URL:https://www.capebaptist.org
X-WR-CALDESC:Events for Cape Baptist Church
REFRESH-INTERVAL;VALUE=DURATION:PT1H
X-Robots-Tag:noindex
X-PUBLISHED-TTL:PT1H
BEGIN:VTIMEZONE
TZID:America/New_York
BEGIN:DAYLIGHT
TZOFFSETFROM:-0500
TZOFFSETTO:-0400
TZNAME:EDT
DTSTART:20230312T070000
END:DAYLIGHT
BEGIN:STANDARD
TZOFFSETFROM:-0400
TZOFFSETTO:-0500
TZNAME:EST
DTSTART:20231105T060000
END:STANDARD
BEGIN:DAYLIGHT
TZOFFSETFROM:-0500
TZOFFSETTO:-0400
TZNAME:EDT
DTSTART:20240310T070000
END:DAYLIGHT
BEGIN:STANDARD
TZOFFSETFROM:-0400
TZOFFSETTO:-0500
TZNAME:EST
DTSTART:20241103T060000
END:STANDARD
BEGIN:DAYLIGHT
TZOFFSETFROM:-0500
TZOFFSETTO:-0400
TZNAME:EDT
DTSTART:20250309T070000
END:DAYLIGHT
BEGIN:STANDARD
TZOFFSETFROM:-0400
TZOFFSETTO:-0500
TZNAME:EST
DTSTART:20251102T060000
END:STANDARD
END:VTIMEZONE
BEGIN:VEVENT
DTSTART;TZID=America/New_York:20240317T094500
DTEND;TZID=America/New_York:20240317T103000
DTSTAMP:20260424T182257
CREATED:20231005T010057Z
LAST-MODIFIED:20240205T190406Z
UID:10003799-1710668700-1710671400@www.capebaptist.org
SUMMARY:Sunday School
DESCRIPTION:
URL:https://www.capebaptist.org/event/sunday-school-930am-2/2024-03-17
LOCATION:Cape Baptist Church\, 435 SE 10th Terrace\, Cape Coral\, FL\, 33990\, United States
GEO:26.63408;-81.964542
X-APPLE-STRUCTURED-LOCATION;VALUE=URI;X-ADDRESS=Cape Baptist Church 435 SE 10th Terrace Cape Coral FL 33990 United States;X-APPLE-RADIUS=500;X-TITLE=435 SE 10th Terrace:geo:-81.964542,26.63408
END:VEVENT
BEGIN:VEVENT
DTSTART;TZID=America/New_York:20240317T110000
DTEND;TZID=America/New_York:20240317T120000
DTSTAMP:20260424T182257
CREATED:20231005T005521Z
LAST-MODIFIED:20260410T152438Z
UID:10003277-1710673200-1710676800@www.capebaptist.org
SUMMARY:Sunday AM Service
DESCRIPTION:
URL:https://www.capebaptist.org/event/sunday-am-worship-service-11am/2024-03-17
LOCATION:FL
CATEGORIES:Church
END:VEVENT
BEGIN:VEVENT
DTSTART;TZID=America/New_York:20240317T180000
DTEND;TZID=America/New_York:20240317T190000
DTSTAMP:20260424T182257
CREATED:20231005T010213Z
LAST-MODIFIED:20260410T152649Z
UID:10004060-1710698400-1710702000@www.capebaptist.org
SUMMARY:Evening Worship Service
DESCRIPTION:
URL:https://www.capebaptist.org/event/pm-worship-service-6pm/2024-03-17
LOCATION:Cape Baptist Church\, 435 SE 10th Terrace\, Cape Coral\, FL\, 33990\, United States
CATEGORIES:Church,Family
GEO:26.63408;-81.964542
X-APPLE-STRUCTURED-LOCATION;VALUE=URI;X-ADDRESS=Cape Baptist Church 435 SE 10th Terrace Cape Coral FL 33990 United States;X-APPLE-RADIUS=500;X-TITLE=435 SE 10th Terrace:geo:-81.964542,26.63408
END:VEVENT
BEGIN:VEVENT
DTSTART;TZID=America/New_York:20240320T180000
DTEND;TZID=America/New_York:20240320T210000
DTSTAMP:20260424T182257
CREATED:20240205T191453Z
LAST-MODIFIED:20240205T191453Z
UID:10005542-1710957600-1710968400@www.capebaptist.org
SUMMARY:Family Fun Night - 6pm
DESCRIPTION:
URL:https://www.capebaptist.org/event/family-fun-night-6pm
LOCATION:Cape Baptist Church\, 435 SE 10th Terrace\, Cape Coral\, FL\, 33990\, United States
CATEGORIES:Ladies,Men,Church,Kids
GEO:26.63408;-81.964542
X-APPLE-STRUCTURED-LOCATION;VALUE=URI;X-ADDRESS=Cape Baptist Church 435 SE 10th Terrace Cape Coral FL 33990 United States;X-APPLE-RADIUS=500;X-TITLE=435 SE 10th Terrace:geo:-81.964542,26.63408
END:VEVENT
BEGIN:VEVENT
DTSTART;TZID=America/New_York:20240320T190000
DTEND;TZID=America/New_York:20240320T200000
DTSTAMP:20260424T182257
CREATED:20240129T182937Z
LAST-MODIFIED:20251208T164545Z
UID:10005260-1710961200-1710964800@www.capebaptist.org
SUMMARY:Bible Study - 7pm
DESCRIPTION:
URL:https://www.capebaptist.org/event/bible-study-7pm-3/2024-03-20
LOCATION:Cape Baptist Church\, 435 SE 10th Terrace\, Cape Coral\, FL\, 33990\, United States
CATEGORIES:Church
GEO:26.63408;-81.964542
X-APPLE-STRUCTURED-LOCATION;VALUE=URI;X-ADDRESS=Cape Baptist Church 435 SE 10th Terrace Cape Coral FL 33990 United States;X-APPLE-RADIUS=500;X-TITLE=435 SE 10th Terrace:geo:-81.964542,26.63408
END:VEVENT
BEGIN:VEVENT
DTSTART;TZID=America/New_York:20240321T183000
DTEND;TZID=America/New_York:20240321T200000
DTSTAMP:20260424T182257
CREATED:20231005T145616Z
LAST-MODIFIED:20231005T145616Z
UID:10004928-1711045800-1711051200@www.capebaptist.org
SUMMARY:No Awana - Spring Break
DESCRIPTION:https://www.capebaptist.org/awana-clubs
URL:https://www.capebaptist.org/event/no-awana-spring-break
LOCATION:Cape Baptist Church\, 435 SE 10th Terrace\, Cape Coral\, FL\, 33990\, United States
GEO:26.63408;-81.964542
X-APPLE-STRUCTURED-LOCATION;VALUE=URI;X-ADDRESS=Cape Baptist Church 435 SE 10th Terrace Cape Coral FL 33990 United States;X-APPLE-RADIUS=500;X-TITLE=435 SE 10th Terrace:geo:-81.964542,26.63408
END:VEVENT
END:VCALENDAR