BEGIN:VCALENDAR
VERSION:2.0
PRODID:-//Cape Baptist Church - ECPv6.15.11//NONSGML v1.0//EN
CALSCALE:GREGORIAN
METHOD:PUBLISH
X-WR-CALNAME:Cape Baptist Church
X-ORIGINAL-URL:https://www.capebaptist.org
X-WR-CALDESC:Events for Cape Baptist Church
REFRESH-INTERVAL;VALUE=DURATION:PT1H
X-Robots-Tag:noindex
X-PUBLISHED-TTL:PT1H
BEGIN:VTIMEZONE
TZID:America/New_York
BEGIN:DAYLIGHT
TZOFFSETFROM:-0500
TZOFFSETTO:-0400
TZNAME:EDT
DTSTART:20220313T070000
END:DAYLIGHT
BEGIN:STANDARD
TZOFFSETFROM:-0400
TZOFFSETTO:-0500
TZNAME:EST
DTSTART:20221106T060000
END:STANDARD
BEGIN:DAYLIGHT
TZOFFSETFROM:-0500
TZOFFSETTO:-0400
TZNAME:EDT
DTSTART:20230312T070000
END:DAYLIGHT
BEGIN:STANDARD
TZOFFSETFROM:-0400
TZOFFSETTO:-0500
TZNAME:EST
DTSTART:20231105T060000
END:STANDARD
BEGIN:DAYLIGHT
TZOFFSETFROM:-0500
TZOFFSETTO:-0400
TZNAME:EDT
DTSTART:20240310T070000
END:DAYLIGHT
BEGIN:STANDARD
TZOFFSETFROM:-0400
TZOFFSETTO:-0500
TZNAME:EST
DTSTART:20241103T060000
END:STANDARD
END:VTIMEZONE
BEGIN:VEVENT
DTSTART;TZID=America/New_York:20231119T094500
DTEND;TZID=America/New_York:20231119T103000
DTSTAMP:20260419T104456
CREATED:20231005T010057Z
LAST-MODIFIED:20240205T190406Z
UID:10003782-1700387100-1700389800@www.capebaptist.org
SUMMARY:Sunday School
DESCRIPTION:
URL:https://www.capebaptist.org/event/sunday-school-930am-2/2023-11-19
LOCATION:Cape Baptist Church\, 435 SE 10th Terrace\, Cape Coral\, FL\, 33990\, United States
GEO:26.63408;-81.964542
X-APPLE-STRUCTURED-LOCATION;VALUE=URI;X-ADDRESS=Cape Baptist Church 435 SE 10th Terrace Cape Coral FL 33990 United States;X-APPLE-RADIUS=500;X-TITLE=435 SE 10th Terrace:geo:-81.964542,26.63408
END:VEVENT
BEGIN:VEVENT
DTSTART;TZID=America/New_York:20231119T110000
DTEND;TZID=America/New_York:20231119T140000
DTSTAMP:20260419T104456
CREATED:20231023T203015Z
LAST-MODIFIED:20231023T203015Z
UID:10004946-1700391600-1700402400@www.capebaptist.org
SUMMARY:Thanksgiving Sunday Service & Luncheon
DESCRIPTION:
URL:https://www.capebaptist.org/event/thanksgiving-sunday-service-luncheon
LOCATION:Cape Baptist Church\, 435 SE 10th Terrace\, Cape Coral\, FL\, 33990\, United States
GEO:26.63408;-81.964542
X-APPLE-STRUCTURED-LOCATION;VALUE=URI;X-ADDRESS=Cape Baptist Church 435 SE 10th Terrace Cape Coral FL 33990 United States;X-APPLE-RADIUS=500;X-TITLE=435 SE 10th Terrace:geo:-81.964542,26.63408
END:VEVENT
BEGIN:VEVENT
DTSTART;TZID=America/New_York:20231119T180000
DTEND;TZID=America/New_York:20231119T190000
DTSTAMP:20260419T104456
CREATED:20231023T203210Z
LAST-MODIFIED:20231023T203426Z
UID:10004947-1700416800-1700420400@www.capebaptist.org
SUMMARY:No Evening Worship Service
DESCRIPTION:
URL:https://www.capebaptist.org/event/no-sunday-pm-service
LOCATION:Cape Baptist Church\, 435 SE 10th Terrace\, Cape Coral\, FL\, 33990\, United States
GEO:26.63408;-81.964542
X-APPLE-STRUCTURED-LOCATION;VALUE=URI;X-ADDRESS=Cape Baptist Church 435 SE 10th Terrace Cape Coral FL 33990 United States;X-APPLE-RADIUS=500;X-TITLE=435 SE 10th Terrace:geo:-81.964542,26.63408
END:VEVENT
BEGIN:VEVENT
DTSTART;TZID=America/New_York:20231122T183000
DTEND;TZID=America/New_York:20231122T200000
DTSTAMP:20260419T104456
CREATED:20231005T010340Z
LAST-MODIFIED:20251208T164515Z
UID:10004963-1700677800-1700683200@www.capebaptist.org
SUMMARY:Impact Youth Group
DESCRIPTION:
URL:https://www.capebaptist.org/event/impact-youth-group-3/2023-11-22
LOCATION:Cape Baptist Church\, 435 SE 10th Terrace\, Cape Coral\, FL\, 33990\, United States
GEO:26.63408;-81.964542
X-APPLE-STRUCTURED-LOCATION;VALUE=URI;X-ADDRESS=Cape Baptist Church 435 SE 10th Terrace Cape Coral FL 33990 United States;X-APPLE-RADIUS=500;X-TITLE=435 SE 10th Terrace:geo:-81.964542,26.63408
END:VEVENT
BEGIN:VEVENT
DTSTART;TZID=America/New_York:20231122T183000
DTEND;TZID=America/New_York:20231122T200000
DTSTAMP:20260419T104456
CREATED:20231023T192224Z
LAST-MODIFIED:20231023T192401Z
UID:10004939-1700677800-1700683200@www.capebaptist.org
SUMMARY:No Impact Youth Group or Bible Study
DESCRIPTION:
URL:https://www.capebaptist.org/event/no-impact-youth-group-or-bible-study
LOCATION:Cape Baptist Church\, 435 SE 10th Terrace\, Cape Coral\, FL\, 33990\, United States
GEO:26.63408;-81.964542
X-APPLE-STRUCTURED-LOCATION;VALUE=URI;X-ADDRESS=Cape Baptist Church 435 SE 10th Terrace Cape Coral FL 33990 United States;X-APPLE-RADIUS=500;X-TITLE=435 SE 10th Terrace:geo:-81.964542,26.63408
END:VEVENT
BEGIN:VEVENT
DTSTART;TZID=America/New_York:20231123T183000
DTEND;TZID=America/New_York:20231123T200000
DTSTAMP:20260419T104456
CREATED:20231005T144323Z
LAST-MODIFIED:20231005T144323Z
UID:10004911-1700764200-1700769600@www.capebaptist.org
SUMMARY:No Awana - Thanksgiving
DESCRIPTION:https://www.capebaptist.org/awana-clubs
URL:https://www.capebaptist.org/event/no-awana-thanksgiving
LOCATION:Cape Baptist Church\, 435 SE 10th Terrace\, Cape Coral\, FL\, 33990\, United States
GEO:26.63408;-81.964542
X-APPLE-STRUCTURED-LOCATION;VALUE=URI;X-ADDRESS=Cape Baptist Church 435 SE 10th Terrace Cape Coral FL 33990 United States;X-APPLE-RADIUS=500;X-TITLE=435 SE 10th Terrace:geo:-81.964542,26.63408
END:VEVENT
END:VCALENDAR