BEGIN:VCALENDAR
VERSION:2.0
PRODID:-//Cape Baptist Church - ECPv6.15.11//NONSGML v1.0//EN
CALSCALE:GREGORIAN
METHOD:PUBLISH
X-ORIGINAL-URL:https://www.capebaptist.org
X-WR-CALDESC:Events for Cape Baptist Church
REFRESH-INTERVAL;VALUE=DURATION:PT1H
X-Robots-Tag:noindex
X-PUBLISHED-TTL:PT1H
BEGIN:VTIMEZONE
TZID:America/New_York
BEGIN:DAYLIGHT
TZOFFSETFROM:-0500
TZOFFSETTO:-0400
TZNAME:EDT
DTSTART:20190310T070000
END:DAYLIGHT
BEGIN:STANDARD
TZOFFSETFROM:-0400
TZOFFSETTO:-0500
TZNAME:EST
DTSTART:20191103T060000
END:STANDARD
BEGIN:DAYLIGHT
TZOFFSETFROM:-0500
TZOFFSETTO:-0400
TZNAME:EDT
DTSTART:20200308T070000
END:DAYLIGHT
BEGIN:STANDARD
TZOFFSETFROM:-0400
TZOFFSETTO:-0500
TZNAME:EST
DTSTART:20201101T060000
END:STANDARD
BEGIN:DAYLIGHT
TZOFFSETFROM:-0500
TZOFFSETTO:-0400
TZNAME:EDT
DTSTART:20210314T070000
END:DAYLIGHT
BEGIN:STANDARD
TZOFFSETFROM:-0400
TZOFFSETTO:-0500
TZNAME:EST
DTSTART:20211107T060000
END:STANDARD
END:VTIMEZONE
BEGIN:VEVENT
DTSTART;TZID=America/New_York:20200419T110000
DTEND;TZID=America/New_York:20200419T120000
DTSTAMP:20260423T164548
CREATED:20181105T153404Z
LAST-MODIFIED:20181105T153430Z
UID:10002769-1587294000-1587297600@www.capebaptist.org
SUMMARY:Worship Service - 11am
DESCRIPTION:
URL:https://www.capebaptist.org/event/worship-service-13/2020-04-19
LOCATION:Cape Baptist Church\, 435 SE 10th Terrace\, Cape Coral\, FL\, 33990\, United States
GEO:26.63408;-81.964542
X-APPLE-STRUCTURED-LOCATION;VALUE=URI;X-ADDRESS=Cape Baptist Church 435 SE 10th Terrace Cape Coral FL 33990 United States;X-APPLE-RADIUS=500;X-TITLE=435 SE 10th Terrace:geo:-81.964542,26.63408
END:VEVENT
BEGIN:VEVENT
DTSTART;TZID=America/New_York:20200419T110000
DTEND;TZID=America/New_York:20200419T120000
DTSTAMP:20260423T164548
CREATED:20200421T193932Z
LAST-MODIFIED:20200421T193932Z
UID:10003009-1587294000-1587297600@www.capebaptist.org
SUMMARY:AM Service: Online
DESCRIPTION:
URL:https://www.capebaptist.org/event/am-service-online
LOCATION:FL
END:VEVENT
BEGIN:VEVENT
DTSTART;TZID=America/New_York:20200419T180000
DTEND;TZID=America/New_York:20200419T190000
DTSTAMP:20260423T164548
CREATED:20200421T194001Z
LAST-MODIFIED:20200421T194001Z
UID:10003010-1587319200-1587322800@www.capebaptist.org
SUMMARY:PM Service: Online
DESCRIPTION:
URL:https://www.capebaptist.org/event/pm-service-online
LOCATION:FL
END:VEVENT
BEGIN:VEVENT
DTSTART;TZID=America/New_York:20200422T190000
DTEND;TZID=America/New_York:20200422T200000
DTSTAMP:20260423T164548
CREATED:20200421T193851Z
LAST-MODIFIED:20200421T193851Z
UID:10003008-1587582000-1587585600@www.capebaptist.org
SUMMARY:Bible Study: Online
DESCRIPTION:
URL:https://www.capebaptist.org/event/bible-study-online
LOCATION:FL
END:VEVENT
BEGIN:VEVENT
DTSTART;TZID=America/New_York:20200423T183000
DTEND;TZID=America/New_York:20200423T200000
DTSTAMP:20260423T164548
CREATED:20200106T165430Z
LAST-MODIFIED:20200312T210559Z
UID:10003002-1587666600-1587672000@www.capebaptist.org
SUMMARY:AWANA - Canceled
DESCRIPTION:  \n 
URL:https://www.capebaptist.org/event/awana-12/2020-04-23
LOCATION:Cape Baptist Church\, 435 SE 10th Terrace\, Cape Coral\, FL\, 33990\, United States
GEO:26.63408;-81.964542
X-APPLE-STRUCTURED-LOCATION;VALUE=URI;X-ADDRESS=Cape Baptist Church 435 SE 10th Terrace Cape Coral FL 33990 United States;X-APPLE-RADIUS=500;X-TITLE=435 SE 10th Terrace:geo:-81.964542,26.63408
END:VEVENT
END:VCALENDAR