BEGIN:VCALENDAR
VERSION:2.0
PRODID:-//Cape Baptist Church - ECPv6.15.11//NONSGML v1.0//EN
CALSCALE:GREGORIAN
METHOD:PUBLISH
X-WR-CALNAME:Cape Baptist Church
X-ORIGINAL-URL:https://www.capebaptist.org
X-WR-CALDESC:Events for Cape Baptist Church
REFRESH-INTERVAL;VALUE=DURATION:PT1H
X-Robots-Tag:noindex
X-PUBLISHED-TTL:PT1H
BEGIN:VTIMEZONE
TZID:America/New_York
BEGIN:DAYLIGHT
TZOFFSETFROM:-0500
TZOFFSETTO:-0400
TZNAME:EDT
DTSTART:20190310T070000
END:DAYLIGHT
BEGIN:STANDARD
TZOFFSETFROM:-0400
TZOFFSETTO:-0500
TZNAME:EST
DTSTART:20191103T060000
END:STANDARD
BEGIN:DAYLIGHT
TZOFFSETFROM:-0500
TZOFFSETTO:-0400
TZNAME:EDT
DTSTART:20200308T070000
END:DAYLIGHT
BEGIN:STANDARD
TZOFFSETFROM:-0400
TZOFFSETTO:-0500
TZNAME:EST
DTSTART:20201101T060000
END:STANDARD
BEGIN:DAYLIGHT
TZOFFSETFROM:-0500
TZOFFSETTO:-0400
TZNAME:EDT
DTSTART:20210314T070000
END:DAYLIGHT
BEGIN:STANDARD
TZOFFSETFROM:-0400
TZOFFSETTO:-0500
TZNAME:EST
DTSTART:20211107T060000
END:STANDARD
END:VTIMEZONE
BEGIN:VEVENT
DTSTART;TZID=America/New_York:20200503T110000
DTEND;TZID=America/New_York:20200503T120000
DTSTAMP:20260423T094511
CREATED:20181105T153404Z
LAST-MODIFIED:20181105T153430Z
UID:10002771-1588503600-1588507200@www.capebaptist.org
SUMMARY:Worship Service - 11am
DESCRIPTION:
URL:https://www.capebaptist.org/event/worship-service-13/2020-05-03
LOCATION:Cape Baptist Church\, 435 SE 10th Terrace\, Cape Coral\, FL\, 33990\, United States
GEO:26.63408;-81.964542
X-APPLE-STRUCTURED-LOCATION;VALUE=URI;X-ADDRESS=Cape Baptist Church 435 SE 10th Terrace Cape Coral FL 33990 United States;X-APPLE-RADIUS=500;X-TITLE=435 SE 10th Terrace:geo:-81.964542,26.63408
END:VEVENT
BEGIN:VEVENT
DTSTART;TZID=America/New_York:20200503T110000
DTEND;TZID=America/New_York:20200503T120000
DTSTAMP:20260423T094511
CREATED:20200430T131044Z
LAST-MODIFIED:20200430T131044Z
UID:10003014-1588503600-1588507200@www.capebaptist.org
SUMMARY:Worship Service 11am: Online
DESCRIPTION:
URL:https://www.capebaptist.org/event/worship-service-11am-online
LOCATION:FL
END:VEVENT
BEGIN:VEVENT
DTSTART;TZID=America/New_York:20200503T180000
DTEND;TZID=America/New_York:20200503T190000
DTSTAMP:20260423T094511
CREATED:20200430T131116Z
LAST-MODIFIED:20200430T131116Z
UID:10003015-1588528800-1588532400@www.capebaptist.org
SUMMARY:Worship Service 6pm: Online
DESCRIPTION:
URL:https://www.capebaptist.org/event/worship-service-6pm-online-2
LOCATION:FL
END:VEVENT
BEGIN:VEVENT
DTSTART;TZID=America/New_York:20200506T190000
DTEND;TZID=America/New_York:20200506T200000
DTSTAMP:20260423T094511
CREATED:20200505T134828Z
LAST-MODIFIED:20200505T134828Z
UID:10003016-1588791600-1588795200@www.capebaptist.org
SUMMARY:Bible Study 7pm: Online
DESCRIPTION:
URL:https://www.capebaptist.org/event/bible-study-7pm-online
LOCATION:FL
END:VEVENT
BEGIN:VEVENT
DTSTART;TZID=America/New_York:20200510T110000
DTEND;TZID=America/New_York:20200510T120000
DTSTAMP:20260423T094511
CREATED:20181105T153404Z
LAST-MODIFIED:20181105T153430Z
UID:10002772-1589108400-1589112000@www.capebaptist.org
SUMMARY:Worship Service - 11am
DESCRIPTION:
URL:https://www.capebaptist.org/event/worship-service-13/2020-05-10
LOCATION:Cape Baptist Church\, 435 SE 10th Terrace\, Cape Coral\, FL\, 33990\, United States
GEO:26.63408;-81.964542
X-APPLE-STRUCTURED-LOCATION;VALUE=URI;X-ADDRESS=Cape Baptist Church 435 SE 10th Terrace Cape Coral FL 33990 United States;X-APPLE-RADIUS=500;X-TITLE=435 SE 10th Terrace:geo:-81.964542,26.63408
END:VEVENT
BEGIN:VEVENT
DTSTART;TZID=America/New_York:20200510T110000
DTEND;TZID=America/New_York:20200510T120000
DTSTAMP:20260423T094511
CREATED:20200505T135317Z
LAST-MODIFIED:20200505T135317Z
UID:10003017-1589108400-1589112000@www.capebaptist.org
SUMMARY:Worship Service 11am: Online
DESCRIPTION:
URL:https://www.capebaptist.org/event/worship-service-11am-online-2
LOCATION:FL
END:VEVENT
BEGIN:VEVENT
DTSTART;TZID=America/New_York:20200510T180000
DTEND;TZID=America/New_York:20200510T190000
DTSTAMP:20260423T094511
CREATED:20200505T135342Z
LAST-MODIFIED:20200505T135342Z
UID:10003018-1589133600-1589137200@www.capebaptist.org
SUMMARY:Worship Service 6pm: Online
DESCRIPTION:
URL:https://www.capebaptist.org/event/worship-service-6pm-online-3
LOCATION:FL
END:VEVENT
BEGIN:VEVENT
DTSTART;TZID=America/New_York:20200517T110000
DTEND;TZID=America/New_York:20200517T120000
DTSTAMP:20260423T094511
CREATED:20181105T153404Z
LAST-MODIFIED:20181105T153430Z
UID:10002773-1589713200-1589716800@www.capebaptist.org
SUMMARY:Worship Service - 11am
DESCRIPTION:
URL:https://www.capebaptist.org/event/worship-service-13/2020-05-17
LOCATION:Cape Baptist Church\, 435 SE 10th Terrace\, Cape Coral\, FL\, 33990\, United States
GEO:26.63408;-81.964542
X-APPLE-STRUCTURED-LOCATION;VALUE=URI;X-ADDRESS=Cape Baptist Church 435 SE 10th Terrace Cape Coral FL 33990 United States;X-APPLE-RADIUS=500;X-TITLE=435 SE 10th Terrace:geo:-81.964542,26.63408
END:VEVENT
BEGIN:VEVENT
DTSTART;TZID=America/New_York:20200520T190000
DTEND;TZID=America/New_York:20200520T200000
DTSTAMP:20260423T094511
CREATED:20200518T141356Z
LAST-MODIFIED:20200518T141643Z
UID:10003019-1590001200-1590004800@www.capebaptist.org
SUMMARY:Bible Study - 7pm: Online
DESCRIPTION:Tune In Here
URL:https://www.capebaptist.org/event/bible-study-7pm
LOCATION:FL
END:VEVENT
BEGIN:VEVENT
DTSTART;TZID=America/New_York:20200524T110000
DTEND;TZID=America/New_York:20200524T120000
DTSTAMP:20260423T094511
CREATED:20181105T153404Z
LAST-MODIFIED:20181105T153430Z
UID:10002774-1590318000-1590321600@www.capebaptist.org
SUMMARY:Worship Service - 11am
DESCRIPTION:
URL:https://www.capebaptist.org/event/worship-service-13/2020-05-24
LOCATION:Cape Baptist Church\, 435 SE 10th Terrace\, Cape Coral\, FL\, 33990\, United States
GEO:26.63408;-81.964542
X-APPLE-STRUCTURED-LOCATION;VALUE=URI;X-ADDRESS=Cape Baptist Church 435 SE 10th Terrace Cape Coral FL 33990 United States;X-APPLE-RADIUS=500;X-TITLE=435 SE 10th Terrace:geo:-81.964542,26.63408
END:VEVENT
BEGIN:VEVENT
DTSTART;TZID=America/New_York:20200524T110000
DTEND;TZID=America/New_York:20200524T120000
DTSTAMP:20260423T094511
CREATED:20200518T141425Z
LAST-MODIFIED:20200518T141626Z
UID:10003020-1590318000-1590321600@www.capebaptist.org
SUMMARY:Worship Service - 11am: Online
DESCRIPTION:Tune In Here
URL:https://www.capebaptist.org/event/sunday-am-service-11am-online
LOCATION:FL
END:VEVENT
BEGIN:VEVENT
DTSTART;TZID=America/New_York:20200524T180000
DTEND;TZID=America/New_York:20200524T190000
DTSTAMP:20260423T094511
CREATED:20200518T141529Z
LAST-MODIFIED:20200518T141656Z
UID:10003021-1590343200-1590346800@www.capebaptist.org
SUMMARY:Worship Service - 6pm: Online
DESCRIPTION:Tune In Here
URL:https://www.capebaptist.org/event/worship-service-6pm-online-4
LOCATION:FL
END:VEVENT
BEGIN:VEVENT
DTSTART;TZID=America/New_York:20200531T110000
DTEND;TZID=America/New_York:20200531T120000
DTSTAMP:20260423T094511
CREATED:20181105T153404Z
LAST-MODIFIED:20181105T153430Z
UID:10002775-1590922800-1590926400@www.capebaptist.org
SUMMARY:Worship Service - 11am
DESCRIPTION:
URL:https://www.capebaptist.org/event/worship-service-13/2020-05-31
LOCATION:Cape Baptist Church\, 435 SE 10th Terrace\, Cape Coral\, FL\, 33990\, United States
GEO:26.63408;-81.964542
X-APPLE-STRUCTURED-LOCATION;VALUE=URI;X-ADDRESS=Cape Baptist Church 435 SE 10th Terrace Cape Coral FL 33990 United States;X-APPLE-RADIUS=500;X-TITLE=435 SE 10th Terrace:geo:-81.964542,26.63408
END:VEVENT
END:VCALENDAR