BEGIN:VCALENDAR
VERSION:2.0
PRODID:-//Cape Baptist Church - ECPv6.15.11//NONSGML v1.0//EN
CALSCALE:GREGORIAN
METHOD:PUBLISH
X-WR-CALNAME:Cape Baptist Church
X-ORIGINAL-URL:https://www.capebaptist.org
X-WR-CALDESC:Events for Cape Baptist Church
REFRESH-INTERVAL;VALUE=DURATION:PT1H
X-Robots-Tag:noindex
X-PUBLISHED-TTL:PT1H
BEGIN:VTIMEZONE
TZID:America/New_York
BEGIN:DAYLIGHT
TZOFFSETFROM:-0500
TZOFFSETTO:-0400
TZNAME:EDT
DTSTART:20230312T070000
END:DAYLIGHT
BEGIN:STANDARD
TZOFFSETFROM:-0400
TZOFFSETTO:-0500
TZNAME:EST
DTSTART:20231105T060000
END:STANDARD
BEGIN:DAYLIGHT
TZOFFSETFROM:-0500
TZOFFSETTO:-0400
TZNAME:EDT
DTSTART:20240310T070000
END:DAYLIGHT
BEGIN:STANDARD
TZOFFSETFROM:-0400
TZOFFSETTO:-0500
TZNAME:EST
DTSTART:20241103T060000
END:STANDARD
BEGIN:DAYLIGHT
TZOFFSETFROM:-0500
TZOFFSETTO:-0400
TZNAME:EDT
DTSTART:20250309T070000
END:DAYLIGHT
BEGIN:STANDARD
TZOFFSETFROM:-0400
TZOFFSETTO:-0500
TZNAME:EST
DTSTART:20251102T060000
END:STANDARD
END:VTIMEZONE
BEGIN:VEVENT
DTSTART;TZID=America/New_York:20240121T180000
DTEND;TZID=America/New_York:20240121T190000
DTSTAMP:20260423T171215
CREATED:20231005T010213Z
LAST-MODIFIED:20260410T152649Z
UID:10004052-1705860000-1705863600@www.capebaptist.org
SUMMARY:Evening Worship Service
DESCRIPTION:
URL:https://www.capebaptist.org/event/pm-worship-service-6pm/2024-01-21
LOCATION:Cape Baptist Church\, 435 SE 10th Terrace\, Cape Coral\, FL\, 33990\, United States
CATEGORIES:Church,Family
GEO:26.63408;-81.964542
X-APPLE-STRUCTURED-LOCATION;VALUE=URI;X-ADDRESS=Cape Baptist Church 435 SE 10th Terrace Cape Coral FL 33990 United States;X-APPLE-RADIUS=500;X-TITLE=435 SE 10th Terrace:geo:-81.964542,26.63408
END:VEVENT
BEGIN:VEVENT
DTSTART;TZID=America/New_York:20240124T183000
DTEND;TZID=America/New_York:20240124T200000
DTSTAMP:20260423T171215
CREATED:20231005T010340Z
LAST-MODIFIED:20251208T164515Z
UID:10004657-1706121000-1706126400@www.capebaptist.org
SUMMARY:Impact Youth Group
DESCRIPTION:
URL:https://www.capebaptist.org/event/impact-youth-group-3/2024-01-24
LOCATION:Cape Baptist Church\, 435 SE 10th Terrace\, Cape Coral\, FL\, 33990\, United States
GEO:26.63408;-81.964542
X-APPLE-STRUCTURED-LOCATION;VALUE=URI;X-ADDRESS=Cape Baptist Church 435 SE 10th Terrace Cape Coral FL 33990 United States;X-APPLE-RADIUS=500;X-TITLE=435 SE 10th Terrace:geo:-81.964542,26.63408
END:VEVENT
BEGIN:VEVENT
DTSTART;TZID=America/New_York:20240124T190000
DTEND;TZID=America/New_York:20240124T200000
DTSTAMP:20260423T171215
CREATED:20240129T182937Z
LAST-MODIFIED:20251208T164545Z
UID:10004991-1706122800-1706126400@www.capebaptist.org
SUMMARY:Bible Study - 7pm
DESCRIPTION:
URL:https://www.capebaptist.org/event/bible-study-7pm-3/2024-01-24
LOCATION:Cape Baptist Church\, 435 SE 10th Terrace\, Cape Coral\, FL\, 33990\, United States
CATEGORIES:Church
GEO:26.63408;-81.964542
X-APPLE-STRUCTURED-LOCATION;VALUE=URI;X-ADDRESS=Cape Baptist Church 435 SE 10th Terrace Cape Coral FL 33990 United States;X-APPLE-RADIUS=500;X-TITLE=435 SE 10th Terrace:geo:-81.964542,26.63408
END:VEVENT
BEGIN:VEVENT
DTSTART;TZID=America/New_York:20240125T183000
DTEND;TZID=America/New_York:20240125T200000
DTSTAMP:20260423T171215
CREATED:20231005T145109Z
LAST-MODIFIED:20231005T145109Z
UID:10004920-1706207400-1706212800@www.capebaptist.org
SUMMARY:Awana
DESCRIPTION:
URL:https://www.capebaptist.org/event/awana-19
LOCATION:Cape Baptist Church\, 435 SE 10th Terrace\, Cape Coral\, FL\, 33990\, United States
CATEGORIES:Kids
GEO:26.63408;-81.964542
X-APPLE-STRUCTURED-LOCATION;VALUE=URI;X-ADDRESS=Cape Baptist Church 435 SE 10th Terrace Cape Coral FL 33990 United States;X-APPLE-RADIUS=500;X-TITLE=435 SE 10th Terrace:geo:-81.964542,26.63408
END:VEVENT
BEGIN:VEVENT
DTSTART;TZID=America/New_York:20240128T094500
DTEND;TZID=America/New_York:20240128T103000
DTSTAMP:20260423T171215
CREATED:20231005T010057Z
LAST-MODIFIED:20240205T190406Z
UID:10003792-1706435100-1706437800@www.capebaptist.org
SUMMARY:Sunday School
DESCRIPTION:
URL:https://www.capebaptist.org/event/sunday-school-930am-2/2024-01-28
LOCATION:Cape Baptist Church\, 435 SE 10th Terrace\, Cape Coral\, FL\, 33990\, United States
GEO:26.63408;-81.964542
X-APPLE-STRUCTURED-LOCATION;VALUE=URI;X-ADDRESS=Cape Baptist Church 435 SE 10th Terrace Cape Coral FL 33990 United States;X-APPLE-RADIUS=500;X-TITLE=435 SE 10th Terrace:geo:-81.964542,26.63408
END:VEVENT
BEGIN:VEVENT
DTSTART;TZID=America/New_York:20240128T110000
DTEND;TZID=America/New_York:20240128T120000
DTSTAMP:20260423T171215
CREATED:20231005T005521Z
LAST-MODIFIED:20260410T152438Z
UID:10003270-1706439600-1706443200@www.capebaptist.org
SUMMARY:Sunday AM Service
DESCRIPTION:
URL:https://www.capebaptist.org/event/sunday-am-worship-service-11am/2024-01-28
LOCATION:FL
CATEGORIES:Church
END:VEVENT
BEGIN:VEVENT
DTSTART;TZID=America/New_York:20240128T180000
DTEND;TZID=America/New_York:20240128T190000
DTSTAMP:20260423T171215
CREATED:20231005T010213Z
LAST-MODIFIED:20260410T152649Z
UID:10004053-1706464800-1706468400@www.capebaptist.org
SUMMARY:Evening Worship Service
DESCRIPTION:
URL:https://www.capebaptist.org/event/pm-worship-service-6pm/2024-01-28
LOCATION:Cape Baptist Church\, 435 SE 10th Terrace\, Cape Coral\, FL\, 33990\, United States
CATEGORIES:Church,Family
GEO:26.63408;-81.964542
X-APPLE-STRUCTURED-LOCATION;VALUE=URI;X-ADDRESS=Cape Baptist Church 435 SE 10th Terrace Cape Coral FL 33990 United States;X-APPLE-RADIUS=500;X-TITLE=435 SE 10th Terrace:geo:-81.964542,26.63408
END:VEVENT
BEGIN:VEVENT
DTSTART;TZID=America/New_York:20240131T183000
DTEND;TZID=America/New_York:20240131T200000
DTSTAMP:20260423T171215
CREATED:20231005T010340Z
LAST-MODIFIED:20251208T164515Z
UID:10004658-1706725800-1706731200@www.capebaptist.org
SUMMARY:Impact Youth Group
DESCRIPTION:
URL:https://www.capebaptist.org/event/impact-youth-group-3/2024-01-31
LOCATION:Cape Baptist Church\, 435 SE 10th Terrace\, Cape Coral\, FL\, 33990\, United States
GEO:26.63408;-81.964542
X-APPLE-STRUCTURED-LOCATION;VALUE=URI;X-ADDRESS=Cape Baptist Church 435 SE 10th Terrace Cape Coral FL 33990 United States;X-APPLE-RADIUS=500;X-TITLE=435 SE 10th Terrace:geo:-81.964542,26.63408
END:VEVENT
BEGIN:VEVENT
DTSTART;TZID=America/New_York:20240131T190000
DTEND;TZID=America/New_York:20240131T200000
DTSTAMP:20260423T171215
CREATED:20231005T010240Z
LAST-MODIFIED:20240129T182232Z
UID:10004298-1706727600-1706731200@www.capebaptist.org
SUMMARY:Bible Study - Guest Speaker Dr. Tom Cucuzza
DESCRIPTION:
URL:https://www.capebaptist.org/event/bible-study-7pm-2
LOCATION:Cape Baptist Church\, 435 SE 10th Terrace\, Cape Coral\, FL\, 33990\, United States
CATEGORIES:Church
GEO:26.63408;-81.964542
X-APPLE-STRUCTURED-LOCATION;VALUE=URI;X-ADDRESS=Cape Baptist Church 435 SE 10th Terrace Cape Coral FL 33990 United States;X-APPLE-RADIUS=500;X-TITLE=435 SE 10th Terrace:geo:-81.964542,26.63408
END:VEVENT
BEGIN:VEVENT
DTSTART;TZID=America/New_York:20240201T183000
DTEND;TZID=America/New_York:20240201T200000
DTSTAMP:20260423T171215
CREATED:20231005T145144Z
LAST-MODIFIED:20231005T145144Z
UID:10004921-1706812200-1706817600@www.capebaptist.org
SUMMARY:Awana
DESCRIPTION:
URL:https://www.capebaptist.org/event/awana-20
LOCATION:Cape Baptist Church\, 435 SE 10th Terrace\, Cape Coral\, FL\, 33990\, United States
CATEGORIES:Kids
GEO:26.63408;-81.964542
X-APPLE-STRUCTURED-LOCATION;VALUE=URI;X-ADDRESS=Cape Baptist Church 435 SE 10th Terrace Cape Coral FL 33990 United States;X-APPLE-RADIUS=500;X-TITLE=435 SE 10th Terrace:geo:-81.964542,26.63408
END:VEVENT
BEGIN:VEVENT
DTSTART;TZID=America/New_York:20240204T094500
DTEND;TZID=America/New_York:20240204T103000
DTSTAMP:20260423T171215
CREATED:20231005T010057Z
LAST-MODIFIED:20240205T190406Z
UID:10003793-1707039900-1707042600@www.capebaptist.org
SUMMARY:Sunday School
DESCRIPTION:
URL:https://www.capebaptist.org/event/sunday-school-930am-2/2024-02-04
LOCATION:Cape Baptist Church\, 435 SE 10th Terrace\, Cape Coral\, FL\, 33990\, United States
GEO:26.63408;-81.964542
X-APPLE-STRUCTURED-LOCATION;VALUE=URI;X-ADDRESS=Cape Baptist Church 435 SE 10th Terrace Cape Coral FL 33990 United States;X-APPLE-RADIUS=500;X-TITLE=435 SE 10th Terrace:geo:-81.964542,26.63408
END:VEVENT
BEGIN:VEVENT
DTSTART;TZID=America/New_York:20240204T110000
DTEND;TZID=America/New_York:20240204T120000
DTSTAMP:20260423T171215
CREATED:20231005T005521Z
LAST-MODIFIED:20260410T152438Z
UID:10003271-1707044400-1707048000@www.capebaptist.org
SUMMARY:Sunday AM Service
DESCRIPTION:
URL:https://www.capebaptist.org/event/sunday-am-worship-service-11am/2024-02-04
LOCATION:FL
CATEGORIES:Church
END:VEVENT
BEGIN:VEVENT
DTSTART;TZID=America/New_York:20240204T180000
DTEND;TZID=America/New_York:20240204T190000
DTSTAMP:20260423T171215
CREATED:20231005T010213Z
LAST-MODIFIED:20260410T152649Z
UID:10004054-1707069600-1707073200@www.capebaptist.org
SUMMARY:Evening Worship Service
DESCRIPTION:
URL:https://www.capebaptist.org/event/pm-worship-service-6pm/2024-02-04
LOCATION:Cape Baptist Church\, 435 SE 10th Terrace\, Cape Coral\, FL\, 33990\, United States
CATEGORIES:Church,Family
GEO:26.63408;-81.964542
X-APPLE-STRUCTURED-LOCATION;VALUE=URI;X-ADDRESS=Cape Baptist Church 435 SE 10th Terrace Cape Coral FL 33990 United States;X-APPLE-RADIUS=500;X-TITLE=435 SE 10th Terrace:geo:-81.964542,26.63408
END:VEVENT
BEGIN:VEVENT
DTSTART;TZID=America/New_York:20240207T183000
DTEND;TZID=America/New_York:20240207T200000
DTSTAMP:20260423T171215
CREATED:20231005T010340Z
LAST-MODIFIED:20251208T164515Z
UID:10004659-1707330600-1707336000@www.capebaptist.org
SUMMARY:Impact Youth Group
DESCRIPTION:
URL:https://www.capebaptist.org/event/impact-youth-group-3/2024-02-07
LOCATION:Cape Baptist Church\, 435 SE 10th Terrace\, Cape Coral\, FL\, 33990\, United States
GEO:26.63408;-81.964542
X-APPLE-STRUCTURED-LOCATION;VALUE=URI;X-ADDRESS=Cape Baptist Church 435 SE 10th Terrace Cape Coral FL 33990 United States;X-APPLE-RADIUS=500;X-TITLE=435 SE 10th Terrace:geo:-81.964542,26.63408
END:VEVENT
BEGIN:VEVENT
DTSTART;TZID=America/New_York:20240207T190000
DTEND;TZID=America/New_York:20240207T200000
DTSTAMP:20260423T171215
CREATED:20240129T182937Z
LAST-MODIFIED:20251208T164545Z
UID:10005254-1707332400-1707336000@www.capebaptist.org
SUMMARY:Bible Study - 7pm
DESCRIPTION:
URL:https://www.capebaptist.org/event/bible-study-7pm-3/2024-02-07
LOCATION:Cape Baptist Church\, 435 SE 10th Terrace\, Cape Coral\, FL\, 33990\, United States
CATEGORIES:Church
GEO:26.63408;-81.964542
X-APPLE-STRUCTURED-LOCATION;VALUE=URI;X-ADDRESS=Cape Baptist Church 435 SE 10th Terrace Cape Coral FL 33990 United States;X-APPLE-RADIUS=500;X-TITLE=435 SE 10th Terrace:geo:-81.964542,26.63408
END:VEVENT
BEGIN:VEVENT
DTSTART;TZID=America/New_York:20240208T183000
DTEND;TZID=America/New_York:20240208T200000
DTSTAMP:20260423T171215
CREATED:20231005T145215Z
LAST-MODIFIED:20231005T145215Z
UID:10004922-1707417000-1707422400@www.capebaptist.org
SUMMARY:Awana - Arctic Night
DESCRIPTION:https://www.capebaptist.org/awana-clubs
URL:https://www.capebaptist.org/event/awana-arctic-night-2
LOCATION:Cape Baptist Church\, 435 SE 10th Terrace\, Cape Coral\, FL\, 33990\, United States
GEO:26.63408;-81.964542
X-APPLE-STRUCTURED-LOCATION;VALUE=URI;X-ADDRESS=Cape Baptist Church 435 SE 10th Terrace Cape Coral FL 33990 United States;X-APPLE-RADIUS=500;X-TITLE=435 SE 10th Terrace:geo:-81.964542,26.63408
END:VEVENT
BEGIN:VEVENT
DTSTART;TZID=America/New_York:20240211T094500
DTEND;TZID=America/New_York:20240211T103000
DTSTAMP:20260423T171215
CREATED:20231005T010057Z
LAST-MODIFIED:20240205T190406Z
UID:10003794-1707644700-1707647400@www.capebaptist.org
SUMMARY:Sunday School
DESCRIPTION:
URL:https://www.capebaptist.org/event/sunday-school-930am-2/2024-02-11
LOCATION:Cape Baptist Church\, 435 SE 10th Terrace\, Cape Coral\, FL\, 33990\, United States
GEO:26.63408;-81.964542
X-APPLE-STRUCTURED-LOCATION;VALUE=URI;X-ADDRESS=Cape Baptist Church 435 SE 10th Terrace Cape Coral FL 33990 United States;X-APPLE-RADIUS=500;X-TITLE=435 SE 10th Terrace:geo:-81.964542,26.63408
END:VEVENT
BEGIN:VEVENT
DTSTART;TZID=America/New_York:20240211T110000
DTEND;TZID=America/New_York:20240211T120000
DTSTAMP:20260423T171215
CREATED:20231005T005521Z
LAST-MODIFIED:20260410T152438Z
UID:10003272-1707649200-1707652800@www.capebaptist.org
SUMMARY:Sunday AM Service
DESCRIPTION:
URL:https://www.capebaptist.org/event/sunday-am-worship-service-11am/2024-02-11
LOCATION:FL
CATEGORIES:Church
END:VEVENT
BEGIN:VEVENT
DTSTART;TZID=America/New_York:20240211T180000
DTEND;TZID=America/New_York:20240211T190000
DTSTAMP:20260423T171215
CREATED:20231005T010213Z
LAST-MODIFIED:20260410T152649Z
UID:10004055-1707674400-1707678000@www.capebaptist.org
SUMMARY:Evening Worship Service
DESCRIPTION:
URL:https://www.capebaptist.org/event/pm-worship-service-6pm/2024-02-11
LOCATION:Cape Baptist Church\, 435 SE 10th Terrace\, Cape Coral\, FL\, 33990\, United States
CATEGORIES:Church,Family
GEO:26.63408;-81.964542
X-APPLE-STRUCTURED-LOCATION;VALUE=URI;X-ADDRESS=Cape Baptist Church 435 SE 10th Terrace Cape Coral FL 33990 United States;X-APPLE-RADIUS=500;X-TITLE=435 SE 10th Terrace:geo:-81.964542,26.63408
END:VEVENT
BEGIN:VEVENT
DTSTART;TZID=America/New_York:20240214T183000
DTEND;TZID=America/New_York:20240214T200000
DTSTAMP:20260423T171215
CREATED:20231005T010340Z
LAST-MODIFIED:20251208T164515Z
UID:10004660-1707935400-1707940800@www.capebaptist.org
SUMMARY:Impact Youth Group
DESCRIPTION:
URL:https://www.capebaptist.org/event/impact-youth-group-3/2024-02-14
LOCATION:Cape Baptist Church\, 435 SE 10th Terrace\, Cape Coral\, FL\, 33990\, United States
GEO:26.63408;-81.964542
X-APPLE-STRUCTURED-LOCATION;VALUE=URI;X-ADDRESS=Cape Baptist Church 435 SE 10th Terrace Cape Coral FL 33990 United States;X-APPLE-RADIUS=500;X-TITLE=435 SE 10th Terrace:geo:-81.964542,26.63408
END:VEVENT
BEGIN:VEVENT
DTSTART;TZID=America/New_York:20240214T190000
DTEND;TZID=America/New_York:20240214T200000
DTSTAMP:20260423T171215
CREATED:20240129T182937Z
LAST-MODIFIED:20251208T164545Z
UID:10005255-1707937200-1707940800@www.capebaptist.org
SUMMARY:Bible Study - 7pm
DESCRIPTION:
URL:https://www.capebaptist.org/event/bible-study-7pm-3/2024-02-14
LOCATION:Cape Baptist Church\, 435 SE 10th Terrace\, Cape Coral\, FL\, 33990\, United States
CATEGORIES:Church
GEO:26.63408;-81.964542
X-APPLE-STRUCTURED-LOCATION;VALUE=URI;X-ADDRESS=Cape Baptist Church 435 SE 10th Terrace Cape Coral FL 33990 United States;X-APPLE-RADIUS=500;X-TITLE=435 SE 10th Terrace:geo:-81.964542,26.63408
END:VEVENT
BEGIN:VEVENT
DTSTART;TZID=America/New_York:20240215T183000
DTEND;TZID=America/New_York:20240215T200000
DTSTAMP:20260423T171215
CREATED:20231005T145306Z
LAST-MODIFIED:20231005T145306Z
UID:10004923-1708021800-1708027200@www.capebaptist.org
SUMMARY:Awana
DESCRIPTION:
URL:https://www.capebaptist.org/event/awana-21
LOCATION:Cape Baptist Church\, 435 SE 10th Terrace\, Cape Coral\, FL\, 33990\, United States
CATEGORIES:Kids
GEO:26.63408;-81.964542
X-APPLE-STRUCTURED-LOCATION;VALUE=URI;X-ADDRESS=Cape Baptist Church 435 SE 10th Terrace Cape Coral FL 33990 United States;X-APPLE-RADIUS=500;X-TITLE=435 SE 10th Terrace:geo:-81.964542,26.63408
END:VEVENT
BEGIN:VEVENT
DTSTART;TZID=America/New_York:20240218T094500
DTEND;TZID=America/New_York:20240218T103000
DTSTAMP:20260423T171215
CREATED:20231005T010057Z
LAST-MODIFIED:20240205T190406Z
UID:10003795-1708249500-1708252200@www.capebaptist.org
SUMMARY:Sunday School
DESCRIPTION:
URL:https://www.capebaptist.org/event/sunday-school-930am-2/2024-02-18
LOCATION:Cape Baptist Church\, 435 SE 10th Terrace\, Cape Coral\, FL\, 33990\, United States
GEO:26.63408;-81.964542
X-APPLE-STRUCTURED-LOCATION;VALUE=URI;X-ADDRESS=Cape Baptist Church 435 SE 10th Terrace Cape Coral FL 33990 United States;X-APPLE-RADIUS=500;X-TITLE=435 SE 10th Terrace:geo:-81.964542,26.63408
END:VEVENT
BEGIN:VEVENT
DTSTART;TZID=America/New_York:20240218T110000
DTEND;TZID=America/New_York:20240218T120000
DTSTAMP:20260423T171215
CREATED:20231005T005521Z
LAST-MODIFIED:20260410T152438Z
UID:10003273-1708254000-1708257600@www.capebaptist.org
SUMMARY:Sunday AM Service
DESCRIPTION:
URL:https://www.capebaptist.org/event/sunday-am-worship-service-11am/2024-02-18
LOCATION:FL
CATEGORIES:Church
END:VEVENT
BEGIN:VEVENT
DTSTART;TZID=America/New_York:20240218T180000
DTEND;TZID=America/New_York:20240218T190000
DTSTAMP:20260423T171215
CREATED:20231005T010213Z
LAST-MODIFIED:20260410T152649Z
UID:10004056-1708279200-1708282800@www.capebaptist.org
SUMMARY:Evening Worship Service
DESCRIPTION:
URL:https://www.capebaptist.org/event/pm-worship-service-6pm/2024-02-18
LOCATION:Cape Baptist Church\, 435 SE 10th Terrace\, Cape Coral\, FL\, 33990\, United States
CATEGORIES:Church,Family
GEO:26.63408;-81.964542
X-APPLE-STRUCTURED-LOCATION;VALUE=URI;X-ADDRESS=Cape Baptist Church 435 SE 10th Terrace Cape Coral FL 33990 United States;X-APPLE-RADIUS=500;X-TITLE=435 SE 10th Terrace:geo:-81.964542,26.63408
END:VEVENT
BEGIN:VEVENT
DTSTART;TZID=America/New_York:20240221T183000
DTEND;TZID=America/New_York:20240221T200000
DTSTAMP:20260423T171215
CREATED:20231005T010340Z
LAST-MODIFIED:20251208T164515Z
UID:10004661-1708540200-1708545600@www.capebaptist.org
SUMMARY:Impact Youth Group
DESCRIPTION:
URL:https://www.capebaptist.org/event/impact-youth-group-3/2024-02-21
LOCATION:Cape Baptist Church\, 435 SE 10th Terrace\, Cape Coral\, FL\, 33990\, United States
GEO:26.63408;-81.964542
X-APPLE-STRUCTURED-LOCATION;VALUE=URI;X-ADDRESS=Cape Baptist Church 435 SE 10th Terrace Cape Coral FL 33990 United States;X-APPLE-RADIUS=500;X-TITLE=435 SE 10th Terrace:geo:-81.964542,26.63408
END:VEVENT
BEGIN:VEVENT
DTSTART;TZID=America/New_York:20240221T190000
DTEND;TZID=America/New_York:20240221T200000
DTSTAMP:20260423T171215
CREATED:20240129T182937Z
LAST-MODIFIED:20251208T164545Z
UID:10005256-1708542000-1708545600@www.capebaptist.org
SUMMARY:Bible Study - 7pm
DESCRIPTION:
URL:https://www.capebaptist.org/event/bible-study-7pm-3/2024-02-21
LOCATION:Cape Baptist Church\, 435 SE 10th Terrace\, Cape Coral\, FL\, 33990\, United States
CATEGORIES:Church
GEO:26.63408;-81.964542
X-APPLE-STRUCTURED-LOCATION;VALUE=URI;X-ADDRESS=Cape Baptist Church 435 SE 10th Terrace Cape Coral FL 33990 United States;X-APPLE-RADIUS=500;X-TITLE=435 SE 10th Terrace:geo:-81.964542,26.63408
END:VEVENT
BEGIN:VEVENT
DTSTART;TZID=America/New_York:20240222T183000
DTEND;TZID=America/New_York:20240222T200000
DTSTAMP:20260423T171215
CREATED:20231005T145350Z
LAST-MODIFIED:20231005T145350Z
UID:10004924-1708626600-1708632000@www.capebaptist.org
SUMMARY:Awana - Dress Like Your Parents Night
DESCRIPTION:https://www.capebaptist.org/awana-clubs
URL:https://www.capebaptist.org/event/awana-dress-like-your-parents-night
LOCATION:Cape Baptist Church\, 435 SE 10th Terrace\, Cape Coral\, FL\, 33990\, United States
GEO:26.63408;-81.964542
X-APPLE-STRUCTURED-LOCATION;VALUE=URI;X-ADDRESS=Cape Baptist Church 435 SE 10th Terrace Cape Coral FL 33990 United States;X-APPLE-RADIUS=500;X-TITLE=435 SE 10th Terrace:geo:-81.964542,26.63408
END:VEVENT
BEGIN:VEVENT
DTSTART;TZID=America/New_York:20240224T120000
DTEND;TZID=America/New_York:20240224T150000
DTSTAMP:20260423T171215
CREATED:20231211T214143Z
LAST-MODIFIED:20240112T211124Z
UID:10004981-1708776000-1708786800@www.capebaptist.org
SUMMARY:Ladies' Tea & Luncheon
DESCRIPTION:
URL:https://www.capebaptist.org/event/ladies-tea-luncheon-2
LOCATION:Cape Baptist Church\, 435 SE 10th Terrace\, Cape Coral\, FL\, 33990\, United States
CATEGORIES:Ladies
GEO:26.63408;-81.964542
X-APPLE-STRUCTURED-LOCATION;VALUE=URI;X-ADDRESS=Cape Baptist Church 435 SE 10th Terrace Cape Coral FL 33990 United States;X-APPLE-RADIUS=500;X-TITLE=435 SE 10th Terrace:geo:-81.964542,26.63408
END:VEVENT
BEGIN:VEVENT
DTSTART;TZID=America/New_York:20240225T094500
DTEND;TZID=America/New_York:20240225T103000
DTSTAMP:20260423T171215
CREATED:20231005T010057Z
LAST-MODIFIED:20240205T190406Z
UID:10003796-1708854300-1708857000@www.capebaptist.org
SUMMARY:Sunday School
DESCRIPTION:
URL:https://www.capebaptist.org/event/sunday-school-930am-2/2024-02-25
LOCATION:Cape Baptist Church\, 435 SE 10th Terrace\, Cape Coral\, FL\, 33990\, United States
GEO:26.63408;-81.964542
X-APPLE-STRUCTURED-LOCATION;VALUE=URI;X-ADDRESS=Cape Baptist Church 435 SE 10th Terrace Cape Coral FL 33990 United States;X-APPLE-RADIUS=500;X-TITLE=435 SE 10th Terrace:geo:-81.964542,26.63408
END:VEVENT
END:VCALENDAR