BEGIN:VCALENDAR
VERSION:2.0
PRODID:-//Cape Baptist Church - ECPv6.15.11//NONSGML v1.0//EN
CALSCALE:GREGORIAN
METHOD:PUBLISH
X-WR-CALNAME:Cape Baptist Church
X-ORIGINAL-URL:https://www.capebaptist.org
X-WR-CALDESC:Events for Cape Baptist Church
REFRESH-INTERVAL;VALUE=DURATION:PT1H
X-Robots-Tag:noindex
X-PUBLISHED-TTL:PT1H
BEGIN:VTIMEZONE
TZID:America/New_York
BEGIN:DAYLIGHT
TZOFFSETFROM:-0500
TZOFFSETTO:-0400
TZNAME:EDT
DTSTART:20220313T070000
END:DAYLIGHT
BEGIN:STANDARD
TZOFFSETFROM:-0400
TZOFFSETTO:-0500
TZNAME:EST
DTSTART:20221106T060000
END:STANDARD
BEGIN:DAYLIGHT
TZOFFSETFROM:-0500
TZOFFSETTO:-0400
TZNAME:EDT
DTSTART:20230312T070000
END:DAYLIGHT
BEGIN:STANDARD
TZOFFSETFROM:-0400
TZOFFSETTO:-0500
TZNAME:EST
DTSTART:20231105T060000
END:STANDARD
BEGIN:DAYLIGHT
TZOFFSETFROM:-0500
TZOFFSETTO:-0400
TZNAME:EDT
DTSTART:20240310T070000
END:DAYLIGHT
BEGIN:STANDARD
TZOFFSETFROM:-0400
TZOFFSETTO:-0500
TZNAME:EST
DTSTART:20241103T060000
END:STANDARD
END:VTIMEZONE
BEGIN:VEVENT
DTSTART;TZID=America/New_York:20231022T180000
DTEND;TZID=America/New_York:20231022T190000
DTSTAMP:20260424T101342
CREATED:20231005T010213Z
LAST-MODIFIED:20260410T152649Z
UID:10004039-1697997600-1698001200@www.capebaptist.org
SUMMARY:Evening Worship Service
DESCRIPTION:
URL:https://www.capebaptist.org/event/pm-worship-service-6pm/2023-10-22
LOCATION:Cape Baptist Church\, 435 SE 10th Terrace\, Cape Coral\, FL\, 33990\, United States
CATEGORIES:Church,Family
GEO:26.63408;-81.964542
X-APPLE-STRUCTURED-LOCATION;VALUE=URI;X-ADDRESS=Cape Baptist Church 435 SE 10th Terrace Cape Coral FL 33990 United States;X-APPLE-RADIUS=500;X-TITLE=435 SE 10th Terrace:geo:-81.964542,26.63408
END:VEVENT
BEGIN:VEVENT
DTSTART;TZID=America/New_York:20231022T110000
DTEND;TZID=America/New_York:20231022T120000
DTSTAMP:20260424T101342
CREATED:20231005T005521Z
LAST-MODIFIED:20260410T152438Z
UID:10003256-1697972400-1697976000@www.capebaptist.org
SUMMARY:Sunday AM Service
DESCRIPTION:
URL:https://www.capebaptist.org/event/sunday-am-worship-service-11am/2023-10-22
LOCATION:FL
CATEGORIES:Church
END:VEVENT
BEGIN:VEVENT
DTSTART;TZID=America/New_York:20231022T094500
DTEND;TZID=America/New_York:20231022T103000
DTSTAMP:20260424T101342
CREATED:20231005T010057Z
LAST-MODIFIED:20240205T190406Z
UID:10003778-1697967900-1697970600@www.capebaptist.org
SUMMARY:Sunday School
DESCRIPTION:
URL:https://www.capebaptist.org/event/sunday-school-930am-2/2023-10-22
LOCATION:Cape Baptist Church\, 435 SE 10th Terrace\, Cape Coral\, FL\, 33990\, United States
GEO:26.63408;-81.964542
X-APPLE-STRUCTURED-LOCATION;VALUE=URI;X-ADDRESS=Cape Baptist Church 435 SE 10th Terrace Cape Coral FL 33990 United States;X-APPLE-RADIUS=500;X-TITLE=435 SE 10th Terrace:geo:-81.964542,26.63408
END:VEVENT
BEGIN:VEVENT
DTSTART;TZID=America/New_York:20231019T183000
DTEND;TZID=America/New_York:20231019T200000
DTSTAMP:20260424T101342
CREATED:20231005T143848Z
LAST-MODIFIED:20231005T143848Z
UID:10004906-1697740200-1697745600@www.capebaptist.org
SUMMARY:Awana - Western Night
DESCRIPTION:https://www.capebaptist.org/awana-clubs
URL:https://www.capebaptist.org/event/awana-western-night
LOCATION:Cape Baptist Church\, 435 SE 10th Terrace\, Cape Coral\, FL\, 33990\, United States
GEO:26.63408;-81.964542
X-APPLE-STRUCTURED-LOCATION;VALUE=URI;X-ADDRESS=Cape Baptist Church 435 SE 10th Terrace Cape Coral FL 33990 United States;X-APPLE-RADIUS=500;X-TITLE=435 SE 10th Terrace:geo:-81.964542,26.63408
END:VEVENT
BEGIN:VEVENT
DTSTART;TZID=America/New_York:20231018T183000
DTEND;TZID=America/New_York:20231018T200000
DTSTAMP:20260424T101342
CREATED:20231005T010340Z
LAST-MODIFIED:20251208T164515Z
UID:10004643-1697653800-1697659200@www.capebaptist.org
SUMMARY:Impact Youth Group
DESCRIPTION:
URL:https://www.capebaptist.org/event/impact-youth-group-3/2023-10-18
LOCATION:Cape Baptist Church\, 435 SE 10th Terrace\, Cape Coral\, FL\, 33990\, United States
GEO:26.63408;-81.964542
X-APPLE-STRUCTURED-LOCATION;VALUE=URI;X-ADDRESS=Cape Baptist Church 435 SE 10th Terrace Cape Coral FL 33990 United States;X-APPLE-RADIUS=500;X-TITLE=435 SE 10th Terrace:geo:-81.964542,26.63408
END:VEVENT
BEGIN:VEVENT
DTSTART;TZID=America/New_York:20231015T180000
DTEND;TZID=America/New_York:20231015T190000
DTSTAMP:20260424T101342
CREATED:20231005T010213Z
LAST-MODIFIED:20260410T152649Z
UID:10004038-1697392800-1697396400@www.capebaptist.org
SUMMARY:Evening Worship Service
DESCRIPTION:
URL:https://www.capebaptist.org/event/pm-worship-service-6pm/2023-10-15
LOCATION:Cape Baptist Church\, 435 SE 10th Terrace\, Cape Coral\, FL\, 33990\, United States
CATEGORIES:Church,Family
GEO:26.63408;-81.964542
X-APPLE-STRUCTURED-LOCATION;VALUE=URI;X-ADDRESS=Cape Baptist Church 435 SE 10th Terrace Cape Coral FL 33990 United States;X-APPLE-RADIUS=500;X-TITLE=435 SE 10th Terrace:geo:-81.964542,26.63408
END:VEVENT
BEGIN:VEVENT
DTSTART;TZID=America/New_York:20231015T110000
DTEND;TZID=America/New_York:20231015T120000
DTSTAMP:20260424T101342
CREATED:20231005T005521Z
LAST-MODIFIED:20260410T152438Z
UID:10003255-1697367600-1697371200@www.capebaptist.org
SUMMARY:Sunday AM Service
DESCRIPTION:
URL:https://www.capebaptist.org/event/sunday-am-worship-service-11am/2023-10-15
LOCATION:FL
CATEGORIES:Church
END:VEVENT
BEGIN:VEVENT
DTSTART;TZID=America/New_York:20231015T094500
DTEND;TZID=America/New_York:20231015T103000
DTSTAMP:20260424T101342
CREATED:20231005T010057Z
LAST-MODIFIED:20240205T190406Z
UID:10003777-1697363100-1697365800@www.capebaptist.org
SUMMARY:Sunday School
DESCRIPTION:
URL:https://www.capebaptist.org/event/sunday-school-930am-2/2023-10-15
LOCATION:Cape Baptist Church\, 435 SE 10th Terrace\, Cape Coral\, FL\, 33990\, United States
GEO:26.63408;-81.964542
X-APPLE-STRUCTURED-LOCATION;VALUE=URI;X-ADDRESS=Cape Baptist Church 435 SE 10th Terrace Cape Coral FL 33990 United States;X-APPLE-RADIUS=500;X-TITLE=435 SE 10th Terrace:geo:-81.964542,26.63408
END:VEVENT
BEGIN:VEVENT
DTSTART;TZID=America/New_York:20231012T183000
DTEND;TZID=America/New_York:20231012T200000
DTSTAMP:20260424T101342
CREATED:20231005T143336Z
LAST-MODIFIED:20231005T143458Z
UID:10004904-1697135400-1697140800@www.capebaptist.org
SUMMARY:Awana
DESCRIPTION:
URL:https://www.capebaptist.org/event/awana-13-3
LOCATION:Cape Baptist Church\, 435 SE 10th Terrace\, Cape Coral\, FL\, 33990\, United States
CATEGORIES:Kids
GEO:26.63408;-81.964542
X-APPLE-STRUCTURED-LOCATION;VALUE=URI;X-ADDRESS=Cape Baptist Church 435 SE 10th Terrace Cape Coral FL 33990 United States;X-APPLE-RADIUS=500;X-TITLE=435 SE 10th Terrace:geo:-81.964542,26.63408
END:VEVENT
BEGIN:VEVENT
DTSTART;TZID=America/New_York:20231011T183000
DTEND;TZID=America/New_York:20231011T200000
DTSTAMP:20260424T101342
CREATED:20231005T010340Z
LAST-MODIFIED:20251208T164515Z
UID:10004642-1697049000-1697054400@www.capebaptist.org
SUMMARY:Impact Youth Group
DESCRIPTION:
URL:https://www.capebaptist.org/event/impact-youth-group-3/2023-10-11
LOCATION:Cape Baptist Church\, 435 SE 10th Terrace\, Cape Coral\, FL\, 33990\, United States
GEO:26.63408;-81.964542
X-APPLE-STRUCTURED-LOCATION;VALUE=URI;X-ADDRESS=Cape Baptist Church 435 SE 10th Terrace Cape Coral FL 33990 United States;X-APPLE-RADIUS=500;X-TITLE=435 SE 10th Terrace:geo:-81.964542,26.63408
END:VEVENT
BEGIN:VEVENT
DTSTART;TZID=America/New_York:20231008T180000
DTEND;TZID=America/New_York:20231008T190000
DTSTAMP:20260424T101342
CREATED:20231005T010213Z
LAST-MODIFIED:20260410T152649Z
UID:10004037-1696788000-1696791600@www.capebaptist.org
SUMMARY:Evening Worship Service
DESCRIPTION:
URL:https://www.capebaptist.org/event/pm-worship-service-6pm/2023-10-08
LOCATION:Cape Baptist Church\, 435 SE 10th Terrace\, Cape Coral\, FL\, 33990\, United States
CATEGORIES:Church,Family
GEO:26.63408;-81.964542
X-APPLE-STRUCTURED-LOCATION;VALUE=URI;X-ADDRESS=Cape Baptist Church 435 SE 10th Terrace Cape Coral FL 33990 United States;X-APPLE-RADIUS=500;X-TITLE=435 SE 10th Terrace:geo:-81.964542,26.63408
END:VEVENT
BEGIN:VEVENT
DTSTART;TZID=America/New_York:20231008T110000
DTEND;TZID=America/New_York:20231008T120000
DTSTAMP:20260424T101342
CREATED:20231005T005521Z
LAST-MODIFIED:20260410T152438Z
UID:10003254-1696762800-1696766400@www.capebaptist.org
SUMMARY:Sunday AM Service
DESCRIPTION:
URL:https://www.capebaptist.org/event/sunday-am-worship-service-11am/2023-10-08
LOCATION:FL
CATEGORIES:Church
END:VEVENT
BEGIN:VEVENT
DTSTART;TZID=America/New_York:20231008T094500
DTEND;TZID=America/New_York:20231008T103000
DTSTAMP:20260424T101342
CREATED:20231005T010057Z
LAST-MODIFIED:20240205T190406Z
UID:10003776-1696758300-1696761000@www.capebaptist.org
SUMMARY:Sunday School
DESCRIPTION:
URL:https://www.capebaptist.org/event/sunday-school-930am-2/2023-10-08
LOCATION:Cape Baptist Church\, 435 SE 10th Terrace\, Cape Coral\, FL\, 33990\, United States
GEO:26.63408;-81.964542
X-APPLE-STRUCTURED-LOCATION;VALUE=URI;X-ADDRESS=Cape Baptist Church 435 SE 10th Terrace Cape Coral FL 33990 United States;X-APPLE-RADIUS=500;X-TITLE=435 SE 10th Terrace:geo:-81.964542,26.63408
END:VEVENT
BEGIN:VEVENT
DTSTART;TZID=America/New_York:20231005T183000
DTEND;TZID=America/New_York:20231005T200000
DTSTAMP:20260424T101342
CREATED:20231005T142414Z
LAST-MODIFIED:20231005T142422Z
UID:10004559-1696530600-1696536000@www.capebaptist.org
SUMMARY:Awana - S'mores Night
DESCRIPTION:
URL:https://www.capebaptist.org/event/awana-13-2
LOCATION:Cape Baptist Church\, 435 SE 10th Terrace\, Cape Coral\, FL\, 33990\, United States
CATEGORIES:Kids
GEO:26.63408;-81.964542
X-APPLE-STRUCTURED-LOCATION;VALUE=URI;X-ADDRESS=Cape Baptist Church 435 SE 10th Terrace Cape Coral FL 33990 United States;X-APPLE-RADIUS=500;X-TITLE=435 SE 10th Terrace:geo:-81.964542,26.63408
END:VEVENT
BEGIN:VEVENT
DTSTART;TZID=America/New_York:20231004T183000
DTEND;TZID=America/New_York:20231004T200000
DTSTAMP:20260424T101342
CREATED:20231005T010340Z
LAST-MODIFIED:20251208T164515Z
UID:10004641-1696444200-1696449600@www.capebaptist.org
SUMMARY:Impact Youth Group
DESCRIPTION:
URL:https://www.capebaptist.org/event/impact-youth-group-3/2023-10-04
LOCATION:Cape Baptist Church\, 435 SE 10th Terrace\, Cape Coral\, FL\, 33990\, United States
GEO:26.63408;-81.964542
X-APPLE-STRUCTURED-LOCATION;VALUE=URI;X-ADDRESS=Cape Baptist Church 435 SE 10th Terrace Cape Coral FL 33990 United States;X-APPLE-RADIUS=500;X-TITLE=435 SE 10th Terrace:geo:-81.964542,26.63408
END:VEVENT
BEGIN:VEVENT
DTSTART;TZID=America/New_York:20230816T190000
DTEND;TZID=America/New_York:20230816T200000
DTSTAMP:20260424T101342
CREATED:20220509T130835Z
LAST-MODIFIED:20221221T193232Z
UID:10003094-1692212400-1692216000@www.capebaptist.org
SUMMARY:Bible Study - 7pm
DESCRIPTION:
URL:https://www.capebaptist.org/event/bible-study-6pm/2023-08-16
LOCATION:Cape Baptist Church\, 435 SE 10th Terrace\, Cape Coral\, FL\, 33990\, United States
CATEGORIES:Church
GEO:26.63408;-81.964542
X-APPLE-STRUCTURED-LOCATION;VALUE=URI;X-ADDRESS=Cape Baptist Church 435 SE 10th Terrace Cape Coral FL 33990 United States;X-APPLE-RADIUS=500;X-TITLE=435 SE 10th Terrace:geo:-81.964542,26.63408
END:VEVENT
BEGIN:VEVENT
DTSTART;TZID=America/New_York:20230816T183000
DTEND;TZID=America/New_York:20230816T200000
DTSTAMP:20260424T101342
CREATED:20221221T193601Z
LAST-MODIFIED:20221221T193643Z
UID:10003251-1692210600-1692216000@www.capebaptist.org
SUMMARY:Impact Youth Group - 6:30pm
DESCRIPTION:
URL:https://www.capebaptist.org/event/impact-youth-group-2/2023-08-16
LOCATION:Cape Baptist Church\, 435 SE 10th Terrace\, Cape Coral\, FL\, 33990\, United States
CATEGORIES:Teen
GEO:26.63408;-81.964542
X-APPLE-STRUCTURED-LOCATION;VALUE=URI;X-ADDRESS=Cape Baptist Church 435 SE 10th Terrace Cape Coral FL 33990 United States;X-APPLE-RADIUS=500;X-TITLE=435 SE 10th Terrace:geo:-81.964542,26.63408
END:VEVENT
BEGIN:VEVENT
DTSTART;TZID=America/New_York:20230813T180000
DTEND;TZID=America/New_York:20230813T190000
DTSTAMP:20260424T101342
CREATED:20200924T141829Z
LAST-MODIFIED:20220407T151337Z
UID:10002477-1691949600-1691953200@www.capebaptist.org
SUMMARY:Worship Service - 6pm
DESCRIPTION:
URL:https://www.capebaptist.org/event/worship-service-6pm/2023-08-13
LOCATION:Cape Baptist Church\, 435 SE 10th Terrace\, Cape Coral\, FL\, 33990\, United States
CATEGORIES:Church
GEO:26.63408;-81.964542
X-APPLE-STRUCTURED-LOCATION;VALUE=URI;X-ADDRESS=Cape Baptist Church 435 SE 10th Terrace Cape Coral FL 33990 United States;X-APPLE-RADIUS=500;X-TITLE=435 SE 10th Terrace:geo:-81.964542,26.63408
END:VEVENT
BEGIN:VEVENT
DTSTART;TZID=America/New_York:20230813T110000
DTEND;TZID=America/New_York:20230813T120000
DTSTAMP:20260424T101342
CREATED:20181105T153404Z
LAST-MODIFIED:20181105T153430Z
UID:10002941-1691924400-1691928000@www.capebaptist.org
SUMMARY:Worship Service - 11am
DESCRIPTION:
URL:https://www.capebaptist.org/event/worship-service-13/2023-08-13
LOCATION:Cape Baptist Church\, 435 SE 10th Terrace\, Cape Coral\, FL\, 33990\, United States
GEO:26.63408;-81.964542
X-APPLE-STRUCTURED-LOCATION;VALUE=URI;X-ADDRESS=Cape Baptist Church 435 SE 10th Terrace Cape Coral FL 33990 United States;X-APPLE-RADIUS=500;X-TITLE=435 SE 10th Terrace:geo:-81.964542,26.63408
END:VEVENT
BEGIN:VEVENT
DTSTART;TZID=America/New_York:20230813T093000
DTEND;TZID=America/New_York:20230813T103000
DTSTAMP:20260424T101342
CREATED:20221221T193122Z
LAST-MODIFIED:20221221T194007Z
UID:10003132-1691919000-1691922600@www.capebaptist.org
SUMMARY:Sunday School - 9:30am
DESCRIPTION:
URL:https://www.capebaptist.org/event/sunday-school-930am/2023-08-13
LOCATION:Cape Baptist Church\, 435 SE 10th Terrace\, Cape Coral\, FL\, 33990\, United States
GEO:26.63408;-81.964542
X-APPLE-STRUCTURED-LOCATION;VALUE=URI;X-ADDRESS=Cape Baptist Church 435 SE 10th Terrace Cape Coral FL 33990 United States;X-APPLE-RADIUS=500;X-TITLE=435 SE 10th Terrace:geo:-81.964542,26.63408
END:VEVENT
BEGIN:VEVENT
DTSTART;TZID=America/New_York:20230809T190000
DTEND;TZID=America/New_York:20230809T200000
DTSTAMP:20260424T101342
CREATED:20220509T130835Z
LAST-MODIFIED:20221221T193232Z
UID:10003093-1691607600-1691611200@www.capebaptist.org
SUMMARY:Bible Study - 7pm
DESCRIPTION:
URL:https://www.capebaptist.org/event/bible-study-6pm/2023-08-09
LOCATION:Cape Baptist Church\, 435 SE 10th Terrace\, Cape Coral\, FL\, 33990\, United States
CATEGORIES:Church
GEO:26.63408;-81.964542
X-APPLE-STRUCTURED-LOCATION;VALUE=URI;X-ADDRESS=Cape Baptist Church 435 SE 10th Terrace Cape Coral FL 33990 United States;X-APPLE-RADIUS=500;X-TITLE=435 SE 10th Terrace:geo:-81.964542,26.63408
END:VEVENT
BEGIN:VEVENT
DTSTART;TZID=America/New_York:20230809T183000
DTEND;TZID=America/New_York:20230809T200000
DTSTAMP:20260424T101342
CREATED:20221221T193601Z
LAST-MODIFIED:20221221T193643Z
UID:10003250-1691605800-1691611200@www.capebaptist.org
SUMMARY:Impact Youth Group - 6:30pm
DESCRIPTION:
URL:https://www.capebaptist.org/event/impact-youth-group-2/2023-08-09
LOCATION:Cape Baptist Church\, 435 SE 10th Terrace\, Cape Coral\, FL\, 33990\, United States
CATEGORIES:Teen
GEO:26.63408;-81.964542
X-APPLE-STRUCTURED-LOCATION;VALUE=URI;X-ADDRESS=Cape Baptist Church 435 SE 10th Terrace Cape Coral FL 33990 United States;X-APPLE-RADIUS=500;X-TITLE=435 SE 10th Terrace:geo:-81.964542,26.63408
END:VEVENT
BEGIN:VEVENT
DTSTART;TZID=America/New_York:20230806T180000
DTEND;TZID=America/New_York:20230806T190000
DTSTAMP:20260424T101342
CREATED:20200924T141829Z
LAST-MODIFIED:20220407T151337Z
UID:10002476-1691344800-1691348400@www.capebaptist.org
SUMMARY:Worship Service - 6pm
DESCRIPTION:
URL:https://www.capebaptist.org/event/worship-service-6pm/2023-08-06
LOCATION:Cape Baptist Church\, 435 SE 10th Terrace\, Cape Coral\, FL\, 33990\, United States
CATEGORIES:Church
GEO:26.63408;-81.964542
X-APPLE-STRUCTURED-LOCATION;VALUE=URI;X-ADDRESS=Cape Baptist Church 435 SE 10th Terrace Cape Coral FL 33990 United States;X-APPLE-RADIUS=500;X-TITLE=435 SE 10th Terrace:geo:-81.964542,26.63408
END:VEVENT
BEGIN:VEVENT
DTSTART;TZID=America/New_York:20230806T110000
DTEND;TZID=America/New_York:20230806T120000
DTSTAMP:20260424T101342
CREATED:20181105T153404Z
LAST-MODIFIED:20181105T153430Z
UID:10002940-1691319600-1691323200@www.capebaptist.org
SUMMARY:Worship Service - 11am
DESCRIPTION:
URL:https://www.capebaptist.org/event/worship-service-13/2023-08-06
LOCATION:Cape Baptist Church\, 435 SE 10th Terrace\, Cape Coral\, FL\, 33990\, United States
GEO:26.63408;-81.964542
X-APPLE-STRUCTURED-LOCATION;VALUE=URI;X-ADDRESS=Cape Baptist Church 435 SE 10th Terrace Cape Coral FL 33990 United States;X-APPLE-RADIUS=500;X-TITLE=435 SE 10th Terrace:geo:-81.964542,26.63408
END:VEVENT
BEGIN:VEVENT
DTSTART;TZID=America/New_York:20230806T093000
DTEND;TZID=America/New_York:20230806T103000
DTSTAMP:20260424T101342
CREATED:20221221T193122Z
LAST-MODIFIED:20221221T194007Z
UID:10003131-1691314200-1691317800@www.capebaptist.org
SUMMARY:Sunday School - 9:30am
DESCRIPTION:
URL:https://www.capebaptist.org/event/sunday-school-930am/2023-08-06
LOCATION:Cape Baptist Church\, 435 SE 10th Terrace\, Cape Coral\, FL\, 33990\, United States
GEO:26.63408;-81.964542
X-APPLE-STRUCTURED-LOCATION;VALUE=URI;X-ADDRESS=Cape Baptist Church 435 SE 10th Terrace Cape Coral FL 33990 United States;X-APPLE-RADIUS=500;X-TITLE=435 SE 10th Terrace:geo:-81.964542,26.63408
END:VEVENT
BEGIN:VEVENT
DTSTART;TZID=America/New_York:20230802T190000
DTEND;TZID=America/New_York:20230802T200000
DTSTAMP:20260424T101342
CREATED:20220509T130835Z
LAST-MODIFIED:20221221T193232Z
UID:10003092-1691002800-1691006400@www.capebaptist.org
SUMMARY:Bible Study - 7pm
DESCRIPTION:
URL:https://www.capebaptist.org/event/bible-study-6pm/2023-08-02
LOCATION:Cape Baptist Church\, 435 SE 10th Terrace\, Cape Coral\, FL\, 33990\, United States
CATEGORIES:Church
GEO:26.63408;-81.964542
X-APPLE-STRUCTURED-LOCATION;VALUE=URI;X-ADDRESS=Cape Baptist Church 435 SE 10th Terrace Cape Coral FL 33990 United States;X-APPLE-RADIUS=500;X-TITLE=435 SE 10th Terrace:geo:-81.964542,26.63408
END:VEVENT
BEGIN:VEVENT
DTSTART;TZID=America/New_York:20230802T183000
DTEND;TZID=America/New_York:20230802T200000
DTSTAMP:20260424T101342
CREATED:20221221T193601Z
LAST-MODIFIED:20221221T193643Z
UID:10003249-1691001000-1691006400@www.capebaptist.org
SUMMARY:Impact Youth Group - 6:30pm
DESCRIPTION:
URL:https://www.capebaptist.org/event/impact-youth-group-2/2023-08-02
LOCATION:Cape Baptist Church\, 435 SE 10th Terrace\, Cape Coral\, FL\, 33990\, United States
CATEGORIES:Teen
GEO:26.63408;-81.964542
X-APPLE-STRUCTURED-LOCATION;VALUE=URI;X-ADDRESS=Cape Baptist Church 435 SE 10th Terrace Cape Coral FL 33990 United States;X-APPLE-RADIUS=500;X-TITLE=435 SE 10th Terrace:geo:-81.964542,26.63408
END:VEVENT
BEGIN:VEVENT
DTSTART;TZID=America/New_York:20230730T180000
DTEND;TZID=America/New_York:20230730T190000
DTSTAMP:20260424T101342
CREATED:20200924T141829Z
LAST-MODIFIED:20220407T151337Z
UID:10002475-1690740000-1690743600@www.capebaptist.org
SUMMARY:Worship Service - 6pm
DESCRIPTION:
URL:https://www.capebaptist.org/event/worship-service-6pm/2023-07-30
LOCATION:Cape Baptist Church\, 435 SE 10th Terrace\, Cape Coral\, FL\, 33990\, United States
CATEGORIES:Church
GEO:26.63408;-81.964542
X-APPLE-STRUCTURED-LOCATION;VALUE=URI;X-ADDRESS=Cape Baptist Church 435 SE 10th Terrace Cape Coral FL 33990 United States;X-APPLE-RADIUS=500;X-TITLE=435 SE 10th Terrace:geo:-81.964542,26.63408
END:VEVENT
BEGIN:VEVENT
DTSTART;TZID=America/New_York:20230730T110000
DTEND;TZID=America/New_York:20230730T120000
DTSTAMP:20260424T101342
CREATED:20181105T153404Z
LAST-MODIFIED:20181105T153430Z
UID:10002939-1690714800-1690718400@www.capebaptist.org
SUMMARY:Worship Service - 11am
DESCRIPTION:
URL:https://www.capebaptist.org/event/worship-service-13/2023-07-30
LOCATION:Cape Baptist Church\, 435 SE 10th Terrace\, Cape Coral\, FL\, 33990\, United States
GEO:26.63408;-81.964542
X-APPLE-STRUCTURED-LOCATION;VALUE=URI;X-ADDRESS=Cape Baptist Church 435 SE 10th Terrace Cape Coral FL 33990 United States;X-APPLE-RADIUS=500;X-TITLE=435 SE 10th Terrace:geo:-81.964542,26.63408
END:VEVENT
BEGIN:VEVENT
DTSTART;TZID=America/New_York:20230730T093000
DTEND;TZID=America/New_York:20230730T103000
DTSTAMP:20260424T101342
CREATED:20221221T193122Z
LAST-MODIFIED:20221221T194007Z
UID:10003130-1690709400-1690713000@www.capebaptist.org
SUMMARY:Sunday School - 9:30am
DESCRIPTION:
URL:https://www.capebaptist.org/event/sunday-school-930am/2023-07-30
LOCATION:Cape Baptist Church\, 435 SE 10th Terrace\, Cape Coral\, FL\, 33990\, United States
GEO:26.63408;-81.964542
X-APPLE-STRUCTURED-LOCATION;VALUE=URI;X-ADDRESS=Cape Baptist Church 435 SE 10th Terrace Cape Coral FL 33990 United States;X-APPLE-RADIUS=500;X-TITLE=435 SE 10th Terrace:geo:-81.964542,26.63408
END:VEVENT
END:VCALENDAR