BEGIN:VCALENDAR
VERSION:2.0
PRODID:-//Cape Baptist Church - ECPv6.15.11//NONSGML v1.0//EN
CALSCALE:GREGORIAN
METHOD:PUBLISH
X-WR-CALNAME:Cape Baptist Church
X-ORIGINAL-URL:https://www.capebaptist.org
X-WR-CALDESC:Events for Cape Baptist Church
REFRESH-INTERVAL;VALUE=DURATION:PT1H
X-Robots-Tag:noindex
X-PUBLISHED-TTL:PT1H
BEGIN:VTIMEZONE
TZID:America/New_York
BEGIN:DAYLIGHT
TZOFFSETFROM:-0500
TZOFFSETTO:-0400
TZNAME:EDT
DTSTART:20220313T070000
END:DAYLIGHT
BEGIN:STANDARD
TZOFFSETFROM:-0400
TZOFFSETTO:-0500
TZNAME:EST
DTSTART:20221106T060000
END:STANDARD
BEGIN:DAYLIGHT
TZOFFSETFROM:-0500
TZOFFSETTO:-0400
TZNAME:EDT
DTSTART:20230312T070000
END:DAYLIGHT
BEGIN:STANDARD
TZOFFSETFROM:-0400
TZOFFSETTO:-0500
TZNAME:EST
DTSTART:20231105T060000
END:STANDARD
BEGIN:DAYLIGHT
TZOFFSETFROM:-0500
TZOFFSETTO:-0400
TZNAME:EDT
DTSTART:20240310T070000
END:DAYLIGHT
BEGIN:STANDARD
TZOFFSETFROM:-0400
TZOFFSETTO:-0500
TZNAME:EST
DTSTART:20241103T060000
END:STANDARD
END:VTIMEZONE
BEGIN:VEVENT
DTSTART;TZID=America/New_York:20230510T183000
DTEND;TZID=America/New_York:20230510T200000
DTSTAMP:20260423T175806
CREATED:20221221T193601Z
LAST-MODIFIED:20221221T193643Z
UID:10003237-1683743400-1683748800@www.capebaptist.org
SUMMARY:Impact Youth Group - 6:30pm
DESCRIPTION:
URL:https://www.capebaptist.org/event/impact-youth-group-2/2023-05-10
LOCATION:Cape Baptist Church\, 435 SE 10th Terrace\, Cape Coral\, FL\, 33990\, United States
CATEGORIES:Teen
GEO:26.63408;-81.964542
X-APPLE-STRUCTURED-LOCATION;VALUE=URI;X-ADDRESS=Cape Baptist Church 435 SE 10th Terrace Cape Coral FL 33990 United States;X-APPLE-RADIUS=500;X-TITLE=435 SE 10th Terrace:geo:-81.964542,26.63408
END:VEVENT
BEGIN:VEVENT
DTSTART;TZID=America/New_York:20230510T190000
DTEND;TZID=America/New_York:20230510T200000
DTSTAMP:20260423T175806
CREATED:20220509T130835Z
LAST-MODIFIED:20221221T193232Z
UID:10003080-1683745200-1683748800@www.capebaptist.org
SUMMARY:Bible Study - 7pm
DESCRIPTION:
URL:https://www.capebaptist.org/event/bible-study-6pm/2023-05-10
LOCATION:Cape Baptist Church\, 435 SE 10th Terrace\, Cape Coral\, FL\, 33990\, United States
CATEGORIES:Church
GEO:26.63408;-81.964542
X-APPLE-STRUCTURED-LOCATION;VALUE=URI;X-ADDRESS=Cape Baptist Church 435 SE 10th Terrace Cape Coral FL 33990 United States;X-APPLE-RADIUS=500;X-TITLE=435 SE 10th Terrace:geo:-81.964542,26.63408
END:VEVENT
BEGIN:VEVENT
DTSTART;TZID=America/New_York:20230514T093000
DTEND;TZID=America/New_York:20230514T103000
DTSTAMP:20260423T175806
CREATED:20221221T193122Z
LAST-MODIFIED:20221221T194007Z
UID:10003119-1684056600-1684060200@www.capebaptist.org
SUMMARY:Sunday School - 9:30am
DESCRIPTION:
URL:https://www.capebaptist.org/event/sunday-school-930am/2023-05-14
LOCATION:Cape Baptist Church\, 435 SE 10th Terrace\, Cape Coral\, FL\, 33990\, United States
GEO:26.63408;-81.964542
X-APPLE-STRUCTURED-LOCATION;VALUE=URI;X-ADDRESS=Cape Baptist Church 435 SE 10th Terrace Cape Coral FL 33990 United States;X-APPLE-RADIUS=500;X-TITLE=435 SE 10th Terrace:geo:-81.964542,26.63408
END:VEVENT
BEGIN:VEVENT
DTSTART;TZID=America/New_York:20230514T110000
DTEND;TZID=America/New_York:20230514T120000
DTSTAMP:20260423T175806
CREATED:20181105T153404Z
LAST-MODIFIED:20181105T153430Z
UID:10002928-1684062000-1684065600@www.capebaptist.org
SUMMARY:Worship Service - 11am
DESCRIPTION:
URL:https://www.capebaptist.org/event/worship-service-13/2023-05-14
LOCATION:Cape Baptist Church\, 435 SE 10th Terrace\, Cape Coral\, FL\, 33990\, United States
GEO:26.63408;-81.964542
X-APPLE-STRUCTURED-LOCATION;VALUE=URI;X-ADDRESS=Cape Baptist Church 435 SE 10th Terrace Cape Coral FL 33990 United States;X-APPLE-RADIUS=500;X-TITLE=435 SE 10th Terrace:geo:-81.964542,26.63408
END:VEVENT
BEGIN:VEVENT
DTSTART;TZID=America/New_York:20230514T180000
DTEND;TZID=America/New_York:20230514T190000
DTSTAMP:20260423T175806
CREATED:20200924T141829Z
LAST-MODIFIED:20220407T151337Z
UID:10002465-1684087200-1684090800@www.capebaptist.org
SUMMARY:Worship Service - 6pm
DESCRIPTION:
URL:https://www.capebaptist.org/event/worship-service-6pm/2023-05-14
LOCATION:Cape Baptist Church\, 435 SE 10th Terrace\, Cape Coral\, FL\, 33990\, United States
CATEGORIES:Church
GEO:26.63408;-81.964542
X-APPLE-STRUCTURED-LOCATION;VALUE=URI;X-ADDRESS=Cape Baptist Church 435 SE 10th Terrace Cape Coral FL 33990 United States;X-APPLE-RADIUS=500;X-TITLE=435 SE 10th Terrace:geo:-81.964542,26.63408
END:VEVENT
BEGIN:VEVENT
DTSTART;TZID=America/New_York:20230517T183000
DTEND;TZID=America/New_York:20230517T200000
DTSTAMP:20260423T175806
CREATED:20221221T193601Z
LAST-MODIFIED:20221221T193643Z
UID:10003238-1684348200-1684353600@www.capebaptist.org
SUMMARY:Impact Youth Group - 6:30pm
DESCRIPTION:
URL:https://www.capebaptist.org/event/impact-youth-group-2/2023-05-17
LOCATION:Cape Baptist Church\, 435 SE 10th Terrace\, Cape Coral\, FL\, 33990\, United States
CATEGORIES:Teen
GEO:26.63408;-81.964542
X-APPLE-STRUCTURED-LOCATION;VALUE=URI;X-ADDRESS=Cape Baptist Church 435 SE 10th Terrace Cape Coral FL 33990 United States;X-APPLE-RADIUS=500;X-TITLE=435 SE 10th Terrace:geo:-81.964542,26.63408
END:VEVENT
BEGIN:VEVENT
DTSTART;TZID=America/New_York:20230517T190000
DTEND;TZID=America/New_York:20230517T200000
DTSTAMP:20260423T175806
CREATED:20220509T130835Z
LAST-MODIFIED:20221221T193232Z
UID:10003081-1684350000-1684353600@www.capebaptist.org
SUMMARY:Bible Study - 7pm
DESCRIPTION:
URL:https://www.capebaptist.org/event/bible-study-6pm/2023-05-17
LOCATION:Cape Baptist Church\, 435 SE 10th Terrace\, Cape Coral\, FL\, 33990\, United States
CATEGORIES:Church
GEO:26.63408;-81.964542
X-APPLE-STRUCTURED-LOCATION;VALUE=URI;X-ADDRESS=Cape Baptist Church 435 SE 10th Terrace Cape Coral FL 33990 United States;X-APPLE-RADIUS=500;X-TITLE=435 SE 10th Terrace:geo:-81.964542,26.63408
END:VEVENT
BEGIN:VEVENT
DTSTART;TZID=America/New_York:20230521T093000
DTEND;TZID=America/New_York:20230521T103000
DTSTAMP:20260423T175806
CREATED:20221221T193122Z
LAST-MODIFIED:20221221T194007Z
UID:10003120-1684661400-1684665000@www.capebaptist.org
SUMMARY:Sunday School - 9:30am
DESCRIPTION:
URL:https://www.capebaptist.org/event/sunday-school-930am/2023-05-21
LOCATION:Cape Baptist Church\, 435 SE 10th Terrace\, Cape Coral\, FL\, 33990\, United States
GEO:26.63408;-81.964542
X-APPLE-STRUCTURED-LOCATION;VALUE=URI;X-ADDRESS=Cape Baptist Church 435 SE 10th Terrace Cape Coral FL 33990 United States;X-APPLE-RADIUS=500;X-TITLE=435 SE 10th Terrace:geo:-81.964542,26.63408
END:VEVENT
BEGIN:VEVENT
DTSTART;TZID=America/New_York:20230521T110000
DTEND;TZID=America/New_York:20230521T120000
DTSTAMP:20260423T175806
CREATED:20181105T153404Z
LAST-MODIFIED:20181105T153430Z
UID:10002929-1684666800-1684670400@www.capebaptist.org
SUMMARY:Worship Service - 11am
DESCRIPTION:
URL:https://www.capebaptist.org/event/worship-service-13/2023-05-21
LOCATION:Cape Baptist Church\, 435 SE 10th Terrace\, Cape Coral\, FL\, 33990\, United States
GEO:26.63408;-81.964542
X-APPLE-STRUCTURED-LOCATION;VALUE=URI;X-ADDRESS=Cape Baptist Church 435 SE 10th Terrace Cape Coral FL 33990 United States;X-APPLE-RADIUS=500;X-TITLE=435 SE 10th Terrace:geo:-81.964542,26.63408
END:VEVENT
BEGIN:VEVENT
DTSTART;TZID=America/New_York:20230521T180000
DTEND;TZID=America/New_York:20230521T190000
DTSTAMP:20260423T175806
CREATED:20200924T141829Z
LAST-MODIFIED:20220407T151337Z
UID:10002466-1684692000-1684695600@www.capebaptist.org
SUMMARY:Worship Service - 6pm
DESCRIPTION:
URL:https://www.capebaptist.org/event/worship-service-6pm/2023-05-21
LOCATION:Cape Baptist Church\, 435 SE 10th Terrace\, Cape Coral\, FL\, 33990\, United States
CATEGORIES:Church
GEO:26.63408;-81.964542
X-APPLE-STRUCTURED-LOCATION;VALUE=URI;X-ADDRESS=Cape Baptist Church 435 SE 10th Terrace Cape Coral FL 33990 United States;X-APPLE-RADIUS=500;X-TITLE=435 SE 10th Terrace:geo:-81.964542,26.63408
END:VEVENT
BEGIN:VEVENT
DTSTART;TZID=America/New_York:20230524T183000
DTEND;TZID=America/New_York:20230524T200000
DTSTAMP:20260423T175806
CREATED:20221221T193601Z
LAST-MODIFIED:20221221T193643Z
UID:10003239-1684953000-1684958400@www.capebaptist.org
SUMMARY:Impact Youth Group - 6:30pm
DESCRIPTION:
URL:https://www.capebaptist.org/event/impact-youth-group-2/2023-05-24
LOCATION:Cape Baptist Church\, 435 SE 10th Terrace\, Cape Coral\, FL\, 33990\, United States
CATEGORIES:Teen
GEO:26.63408;-81.964542
X-APPLE-STRUCTURED-LOCATION;VALUE=URI;X-ADDRESS=Cape Baptist Church 435 SE 10th Terrace Cape Coral FL 33990 United States;X-APPLE-RADIUS=500;X-TITLE=435 SE 10th Terrace:geo:-81.964542,26.63408
END:VEVENT
BEGIN:VEVENT
DTSTART;TZID=America/New_York:20230524T190000
DTEND;TZID=America/New_York:20230524T200000
DTSTAMP:20260423T175806
CREATED:20220509T130835Z
LAST-MODIFIED:20221221T193232Z
UID:10003082-1684954800-1684958400@www.capebaptist.org
SUMMARY:Bible Study - 7pm
DESCRIPTION:
URL:https://www.capebaptist.org/event/bible-study-6pm/2023-05-24
LOCATION:Cape Baptist Church\, 435 SE 10th Terrace\, Cape Coral\, FL\, 33990\, United States
CATEGORIES:Church
GEO:26.63408;-81.964542
X-APPLE-STRUCTURED-LOCATION;VALUE=URI;X-ADDRESS=Cape Baptist Church 435 SE 10th Terrace Cape Coral FL 33990 United States;X-APPLE-RADIUS=500;X-TITLE=435 SE 10th Terrace:geo:-81.964542,26.63408
END:VEVENT
BEGIN:VEVENT
DTSTART;TZID=America/New_York:20230528T093000
DTEND;TZID=America/New_York:20230528T103000
DTSTAMP:20260423T175806
CREATED:20221221T193122Z
LAST-MODIFIED:20221221T194007Z
UID:10003121-1685266200-1685269800@www.capebaptist.org
SUMMARY:Sunday School - 9:30am
DESCRIPTION:
URL:https://www.capebaptist.org/event/sunday-school-930am/2023-05-28
LOCATION:Cape Baptist Church\, 435 SE 10th Terrace\, Cape Coral\, FL\, 33990\, United States
GEO:26.63408;-81.964542
X-APPLE-STRUCTURED-LOCATION;VALUE=URI;X-ADDRESS=Cape Baptist Church 435 SE 10th Terrace Cape Coral FL 33990 United States;X-APPLE-RADIUS=500;X-TITLE=435 SE 10th Terrace:geo:-81.964542,26.63408
END:VEVENT
BEGIN:VEVENT
DTSTART;TZID=America/New_York:20230528T110000
DTEND;TZID=America/New_York:20230528T120000
DTSTAMP:20260423T175806
CREATED:20181105T153404Z
LAST-MODIFIED:20181105T153430Z
UID:10002930-1685271600-1685275200@www.capebaptist.org
SUMMARY:Worship Service - 11am
DESCRIPTION:
URL:https://www.capebaptist.org/event/worship-service-13/2023-05-28
LOCATION:Cape Baptist Church\, 435 SE 10th Terrace\, Cape Coral\, FL\, 33990\, United States
GEO:26.63408;-81.964542
X-APPLE-STRUCTURED-LOCATION;VALUE=URI;X-ADDRESS=Cape Baptist Church 435 SE 10th Terrace Cape Coral FL 33990 United States;X-APPLE-RADIUS=500;X-TITLE=435 SE 10th Terrace:geo:-81.964542,26.63408
END:VEVENT
BEGIN:VEVENT
DTSTART;TZID=America/New_York:20230528T180000
DTEND;TZID=America/New_York:20230528T190000
DTSTAMP:20260423T175806
CREATED:20200924T141829Z
LAST-MODIFIED:20220407T151337Z
UID:10002467-1685296800-1685300400@www.capebaptist.org
SUMMARY:Worship Service - 6pm
DESCRIPTION:
URL:https://www.capebaptist.org/event/worship-service-6pm/2023-05-28
LOCATION:Cape Baptist Church\, 435 SE 10th Terrace\, Cape Coral\, FL\, 33990\, United States
CATEGORIES:Church
GEO:26.63408;-81.964542
X-APPLE-STRUCTURED-LOCATION;VALUE=URI;X-ADDRESS=Cape Baptist Church 435 SE 10th Terrace Cape Coral FL 33990 United States;X-APPLE-RADIUS=500;X-TITLE=435 SE 10th Terrace:geo:-81.964542,26.63408
END:VEVENT
BEGIN:VEVENT
DTSTART;TZID=America/New_York:20230531T183000
DTEND;TZID=America/New_York:20230531T200000
DTSTAMP:20260423T175806
CREATED:20221221T193601Z
LAST-MODIFIED:20221221T193643Z
UID:10003240-1685557800-1685563200@www.capebaptist.org
SUMMARY:Impact Youth Group - 6:30pm
DESCRIPTION:
URL:https://www.capebaptist.org/event/impact-youth-group-2/2023-05-31
LOCATION:Cape Baptist Church\, 435 SE 10th Terrace\, Cape Coral\, FL\, 33990\, United States
CATEGORIES:Teen
GEO:26.63408;-81.964542
X-APPLE-STRUCTURED-LOCATION;VALUE=URI;X-ADDRESS=Cape Baptist Church 435 SE 10th Terrace Cape Coral FL 33990 United States;X-APPLE-RADIUS=500;X-TITLE=435 SE 10th Terrace:geo:-81.964542,26.63408
END:VEVENT
BEGIN:VEVENT
DTSTART;TZID=America/New_York:20230531T190000
DTEND;TZID=America/New_York:20230531T200000
DTSTAMP:20260423T175806
CREATED:20220509T130835Z
LAST-MODIFIED:20221221T193232Z
UID:10003083-1685559600-1685563200@www.capebaptist.org
SUMMARY:Bible Study - 7pm
DESCRIPTION:
URL:https://www.capebaptist.org/event/bible-study-6pm/2023-05-31
LOCATION:Cape Baptist Church\, 435 SE 10th Terrace\, Cape Coral\, FL\, 33990\, United States
CATEGORIES:Church
GEO:26.63408;-81.964542
X-APPLE-STRUCTURED-LOCATION;VALUE=URI;X-ADDRESS=Cape Baptist Church 435 SE 10th Terrace Cape Coral FL 33990 United States;X-APPLE-RADIUS=500;X-TITLE=435 SE 10th Terrace:geo:-81.964542,26.63408
END:VEVENT
BEGIN:VEVENT
DTSTART;TZID=America/New_York:20230604T093000
DTEND;TZID=America/New_York:20230604T103000
DTSTAMP:20260423T175806
CREATED:20221221T193122Z
LAST-MODIFIED:20221221T194007Z
UID:10003122-1685871000-1685874600@www.capebaptist.org
SUMMARY:Sunday School - 9:30am
DESCRIPTION:
URL:https://www.capebaptist.org/event/sunday-school-930am/2023-06-04
LOCATION:Cape Baptist Church\, 435 SE 10th Terrace\, Cape Coral\, FL\, 33990\, United States
GEO:26.63408;-81.964542
X-APPLE-STRUCTURED-LOCATION;VALUE=URI;X-ADDRESS=Cape Baptist Church 435 SE 10th Terrace Cape Coral FL 33990 United States;X-APPLE-RADIUS=500;X-TITLE=435 SE 10th Terrace:geo:-81.964542,26.63408
END:VEVENT
BEGIN:VEVENT
DTSTART;TZID=America/New_York:20230604T110000
DTEND;TZID=America/New_York:20230604T120000
DTSTAMP:20260423T175806
CREATED:20181105T153404Z
LAST-MODIFIED:20181105T153430Z
UID:10002931-1685876400-1685880000@www.capebaptist.org
SUMMARY:Worship Service - 11am
DESCRIPTION:
URL:https://www.capebaptist.org/event/worship-service-13/2023-06-04
LOCATION:Cape Baptist Church\, 435 SE 10th Terrace\, Cape Coral\, FL\, 33990\, United States
GEO:26.63408;-81.964542
X-APPLE-STRUCTURED-LOCATION;VALUE=URI;X-ADDRESS=Cape Baptist Church 435 SE 10th Terrace Cape Coral FL 33990 United States;X-APPLE-RADIUS=500;X-TITLE=435 SE 10th Terrace:geo:-81.964542,26.63408
END:VEVENT
BEGIN:VEVENT
DTSTART;TZID=America/New_York:20230604T180000
DTEND;TZID=America/New_York:20230604T190000
DTSTAMP:20260423T175806
CREATED:20200924T141829Z
LAST-MODIFIED:20220407T151337Z
UID:10002468-1685901600-1685905200@www.capebaptist.org
SUMMARY:Worship Service - 6pm
DESCRIPTION:
URL:https://www.capebaptist.org/event/worship-service-6pm/2023-06-04
LOCATION:Cape Baptist Church\, 435 SE 10th Terrace\, Cape Coral\, FL\, 33990\, United States
CATEGORIES:Church
GEO:26.63408;-81.964542
X-APPLE-STRUCTURED-LOCATION;VALUE=URI;X-ADDRESS=Cape Baptist Church 435 SE 10th Terrace Cape Coral FL 33990 United States;X-APPLE-RADIUS=500;X-TITLE=435 SE 10th Terrace:geo:-81.964542,26.63408
END:VEVENT
BEGIN:VEVENT
DTSTART;TZID=America/New_York:20230607T183000
DTEND;TZID=America/New_York:20230607T200000
DTSTAMP:20260423T175806
CREATED:20221221T193601Z
LAST-MODIFIED:20221221T193643Z
UID:10003241-1686162600-1686168000@www.capebaptist.org
SUMMARY:Impact Youth Group - 6:30pm
DESCRIPTION:
URL:https://www.capebaptist.org/event/impact-youth-group-2/2023-06-07
LOCATION:Cape Baptist Church\, 435 SE 10th Terrace\, Cape Coral\, FL\, 33990\, United States
CATEGORIES:Teen
GEO:26.63408;-81.964542
X-APPLE-STRUCTURED-LOCATION;VALUE=URI;X-ADDRESS=Cape Baptist Church 435 SE 10th Terrace Cape Coral FL 33990 United States;X-APPLE-RADIUS=500;X-TITLE=435 SE 10th Terrace:geo:-81.964542,26.63408
END:VEVENT
BEGIN:VEVENT
DTSTART;TZID=America/New_York:20230607T190000
DTEND;TZID=America/New_York:20230607T200000
DTSTAMP:20260423T175806
CREATED:20220509T130835Z
LAST-MODIFIED:20221221T193232Z
UID:10003084-1686164400-1686168000@www.capebaptist.org
SUMMARY:Bible Study - 7pm
DESCRIPTION:
URL:https://www.capebaptist.org/event/bible-study-6pm/2023-06-07
LOCATION:Cape Baptist Church\, 435 SE 10th Terrace\, Cape Coral\, FL\, 33990\, United States
CATEGORIES:Church
GEO:26.63408;-81.964542
X-APPLE-STRUCTURED-LOCATION;VALUE=URI;X-ADDRESS=Cape Baptist Church 435 SE 10th Terrace Cape Coral FL 33990 United States;X-APPLE-RADIUS=500;X-TITLE=435 SE 10th Terrace:geo:-81.964542,26.63408
END:VEVENT
BEGIN:VEVENT
DTSTART;TZID=America/New_York:20230611T093000
DTEND;TZID=America/New_York:20230611T103000
DTSTAMP:20260423T175806
CREATED:20221221T193122Z
LAST-MODIFIED:20221221T194007Z
UID:10003123-1686475800-1686479400@www.capebaptist.org
SUMMARY:Sunday School - 9:30am
DESCRIPTION:
URL:https://www.capebaptist.org/event/sunday-school-930am/2023-06-11
LOCATION:Cape Baptist Church\, 435 SE 10th Terrace\, Cape Coral\, FL\, 33990\, United States
GEO:26.63408;-81.964542
X-APPLE-STRUCTURED-LOCATION;VALUE=URI;X-ADDRESS=Cape Baptist Church 435 SE 10th Terrace Cape Coral FL 33990 United States;X-APPLE-RADIUS=500;X-TITLE=435 SE 10th Terrace:geo:-81.964542,26.63408
END:VEVENT
BEGIN:VEVENT
DTSTART;TZID=America/New_York:20230611T110000
DTEND;TZID=America/New_York:20230611T120000
DTSTAMP:20260423T175806
CREATED:20181105T153404Z
LAST-MODIFIED:20181105T153430Z
UID:10002932-1686481200-1686484800@www.capebaptist.org
SUMMARY:Worship Service - 11am
DESCRIPTION:
URL:https://www.capebaptist.org/event/worship-service-13/2023-06-11
LOCATION:Cape Baptist Church\, 435 SE 10th Terrace\, Cape Coral\, FL\, 33990\, United States
GEO:26.63408;-81.964542
X-APPLE-STRUCTURED-LOCATION;VALUE=URI;X-ADDRESS=Cape Baptist Church 435 SE 10th Terrace Cape Coral FL 33990 United States;X-APPLE-RADIUS=500;X-TITLE=435 SE 10th Terrace:geo:-81.964542,26.63408
END:VEVENT
BEGIN:VEVENT
DTSTART;TZID=America/New_York:20230611T180000
DTEND;TZID=America/New_York:20230611T190000
DTSTAMP:20260423T175806
CREATED:20200924T141829Z
LAST-MODIFIED:20220407T151337Z
UID:10002469-1686506400-1686510000@www.capebaptist.org
SUMMARY:Worship Service - 6pm
DESCRIPTION:
URL:https://www.capebaptist.org/event/worship-service-6pm/2023-06-11
LOCATION:Cape Baptist Church\, 435 SE 10th Terrace\, Cape Coral\, FL\, 33990\, United States
CATEGORIES:Church
GEO:26.63408;-81.964542
X-APPLE-STRUCTURED-LOCATION;VALUE=URI;X-ADDRESS=Cape Baptist Church 435 SE 10th Terrace Cape Coral FL 33990 United States;X-APPLE-RADIUS=500;X-TITLE=435 SE 10th Terrace:geo:-81.964542,26.63408
END:VEVENT
BEGIN:VEVENT
DTSTART;TZID=America/New_York:20230612T090000
DTEND;TZID=America/New_York:20230616T120000
DTSTAMP:20260423T175806
CREATED:20230607T204250Z
LAST-MODIFIED:20230607T204250Z
UID:10003253-1686560400-1686916800@www.capebaptist.org
SUMMARY:VBS - Stompers & Chompers
DESCRIPTION:
URL:https://www.capebaptist.org/event/vbs-stompers-chompers
LOCATION:Cape Baptist Church\, 435 SE 10th Terrace\, Cape Coral\, FL\, 33990\, United States
ATTACH;FMTTYPE=image/jpeg:https://www.capebaptist.org/wp-content/uploads/CBC-website-Home-Page-Image.jpg
GEO:26.63408;-81.964542
X-APPLE-STRUCTURED-LOCATION;VALUE=URI;X-ADDRESS=Cape Baptist Church 435 SE 10th Terrace Cape Coral FL 33990 United States;X-APPLE-RADIUS=500;X-TITLE=435 SE 10th Terrace:geo:-81.964542,26.63408
END:VEVENT
BEGIN:VEVENT
DTSTART;TZID=America/New_York:20230614T183000
DTEND;TZID=America/New_York:20230614T200000
DTSTAMP:20260423T175806
CREATED:20221221T193601Z
LAST-MODIFIED:20221221T193643Z
UID:10003242-1686767400-1686772800@www.capebaptist.org
SUMMARY:Impact Youth Group - 6:30pm
DESCRIPTION:
URL:https://www.capebaptist.org/event/impact-youth-group-2/2023-06-14
LOCATION:Cape Baptist Church\, 435 SE 10th Terrace\, Cape Coral\, FL\, 33990\, United States
CATEGORIES:Teen
GEO:26.63408;-81.964542
X-APPLE-STRUCTURED-LOCATION;VALUE=URI;X-ADDRESS=Cape Baptist Church 435 SE 10th Terrace Cape Coral FL 33990 United States;X-APPLE-RADIUS=500;X-TITLE=435 SE 10th Terrace:geo:-81.964542,26.63408
END:VEVENT
BEGIN:VEVENT
DTSTART;TZID=America/New_York:20230614T190000
DTEND;TZID=America/New_York:20230614T200000
DTSTAMP:20260423T175806
CREATED:20220509T130835Z
LAST-MODIFIED:20221221T193232Z
UID:10003085-1686769200-1686772800@www.capebaptist.org
SUMMARY:Bible Study - 7pm
DESCRIPTION:
URL:https://www.capebaptist.org/event/bible-study-6pm/2023-06-14
LOCATION:Cape Baptist Church\, 435 SE 10th Terrace\, Cape Coral\, FL\, 33990\, United States
CATEGORIES:Church
GEO:26.63408;-81.964542
X-APPLE-STRUCTURED-LOCATION;VALUE=URI;X-ADDRESS=Cape Baptist Church 435 SE 10th Terrace Cape Coral FL 33990 United States;X-APPLE-RADIUS=500;X-TITLE=435 SE 10th Terrace:geo:-81.964542,26.63408
END:VEVENT
BEGIN:VEVENT
DTSTART;TZID=America/New_York:20230618T093000
DTEND;TZID=America/New_York:20230618T103000
DTSTAMP:20260423T175806
CREATED:20221221T193122Z
LAST-MODIFIED:20221221T194007Z
UID:10003124-1687080600-1687084200@www.capebaptist.org
SUMMARY:Sunday School - 9:30am
DESCRIPTION:
URL:https://www.capebaptist.org/event/sunday-school-930am/2023-06-18
LOCATION:Cape Baptist Church\, 435 SE 10th Terrace\, Cape Coral\, FL\, 33990\, United States
GEO:26.63408;-81.964542
X-APPLE-STRUCTURED-LOCATION;VALUE=URI;X-ADDRESS=Cape Baptist Church 435 SE 10th Terrace Cape Coral FL 33990 United States;X-APPLE-RADIUS=500;X-TITLE=435 SE 10th Terrace:geo:-81.964542,26.63408
END:VEVENT
BEGIN:VEVENT
DTSTART;TZID=America/New_York:20230618T110000
DTEND;TZID=America/New_York:20230618T120000
DTSTAMP:20260423T175806
CREATED:20181105T153404Z
LAST-MODIFIED:20181105T153430Z
UID:10002933-1687086000-1687089600@www.capebaptist.org
SUMMARY:Worship Service - 11am
DESCRIPTION:
URL:https://www.capebaptist.org/event/worship-service-13/2023-06-18
LOCATION:Cape Baptist Church\, 435 SE 10th Terrace\, Cape Coral\, FL\, 33990\, United States
GEO:26.63408;-81.964542
X-APPLE-STRUCTURED-LOCATION;VALUE=URI;X-ADDRESS=Cape Baptist Church 435 SE 10th Terrace Cape Coral FL 33990 United States;X-APPLE-RADIUS=500;X-TITLE=435 SE 10th Terrace:geo:-81.964542,26.63408
END:VEVENT
END:VCALENDAR